BEGIN:VCALENDAR
VERSION:2.0
PRODID:-//北海道中小企業家同友会とかち支部 - ECPv4.6.8//NONSGML v1.0//EN
CALSCALE:GREGORIAN
METHOD:PUBLISH
X-WR-CALNAME:北海道中小企業家同友会とかち支部
X-ORIGINAL-URL:https://tokachi-obihiro.doyu.jp
X-WR-CALDESC:Events for 北海道中小企業家同友会とかち支部
BEGIN:VEVENT
DTSTART;TZID=Asia/Tokyo:20240222T183000
DTEND;TZID=Asia/Tokyo:20240222T210000
DTSTAMP:20260422T185323
CREATED:20240202T023734Z
LAST-MODIFIED:20240202T023734Z
UID:24472-1708626600-1708635600@tokachi-obihiro.doyu.jp
SUMMARY:本別地区会・足寄地区会　合同２月例会
DESCRIPTION:【テーマ】\n移住してきて約40年！\n〜「夢」と「理想」と「負けん気」のハスカップ園物語〜\n講師：足寄ハスカップ園・カミヤ塗装　代表　上谷　祐弘　氏 \n◆と　き：２月２２日(木)１８：３０～２１：００\n◆ところ：足寄ハスカップ園（足寄町中矢758番地1）\n◆会　費：無料　※食事のご用意はありません。 \n※準備のため、2月15日（木）までに出欠回答を頂ければ幸いです。\nお問い合わせは、同友会事務局（TEL：0155-22-3611）まで。 \nPDFはこちら \n本別地区会・足寄地区会　合同２月例会
URL:https://tokachi-obihiro.doyu.jp/event/event24472/
LOCATION:足寄町中矢758番地１\, 089-3873
CATEGORIES:行事予定告知
ATTACH;FMTTYPE=image/jpeg:https://tokachi-obihiro.doyu.jp/wp/wp-content/uploads/2017/12/thum_logo1.jpg
ORGANIZER;CN="%E5%8C%97%E6%B5%B7%E9%81%93%E4%B8%AD%E5%B0%8F%E4%BC%81%E6%A5%AD%E5%AE%B6%E5%90%8C%E5%8F%8B%E4%BC%9A%E3%81%A8%E3%81%8B%E3%81%A1%E6%94%AF%E9%83%A8":MAILTO:tokachi@hokkaido.doyu.jp
END:VEVENT
END:VCALENDAR