BEGIN:VCALENDAR
VERSION:2.0
PRODID:-//北海道中小企業家同友会とかち支部 - ECPv4.6.8//NONSGML v1.0//EN
CALSCALE:GREGORIAN
METHOD:PUBLISH
X-WR-CALNAME:北海道中小企業家同友会とかち支部
X-ORIGINAL-URL:https://tokachi-obihiro.doyu.jp
X-WR-CALDESC:Events for 北海道中小企業家同友会とかち支部
BEGIN:VEVENT
DTSTART;TZID=Asia/Tokyo:20240125T190000
DTEND;TZID=Asia/Tokyo:20240125T203000
DTSTAMP:20260421T114921
CREATED:20240112T012620Z
LAST-MODIFIED:20240112T012620Z
UID:24342-1706209200-1706214600@tokachi-obihiro.doyu.jp
SUMMARY:拓の会 第3グループ（とかちの魅力を考える会） 1月例会
DESCRIPTION:拓の会 第3グループ（とかちの魅力を考える会） 1月例会\n■テーマ：来期に向けて\n■話題提供者：参加者全員\n■日　時：１月２５日(木)　１９：００～２０：３０\n■会　場：同友会とかち事務所(帯広市東２条南５丁目１)\n　※今回ZOOMの設営はありませんが、希望者が居れば対応します。\n　　ZOOM希望の方は事務局までご連絡ください。\n出欠のご回答は、1月23日（火）までにお願いいたします。\n【問い合わせ】\n同友会事務局（担当：山地・山野） 電話：0155-22-3611 \n拓の会 第3グループ（とかちの魅力を考える会） 1月例会
URL:https://tokachi-obihiro.doyu.jp/event/event24342/
LOCATION:帯広市東2条南5丁目１\, 帯広市\, 北海道\, Japan
CATEGORIES:行事予定告知
ATTACH;FMTTYPE=image/jpeg:https://tokachi-obihiro.doyu.jp/wp/wp-content/uploads/2017/12/thum_logo1.jpg
ORGANIZER;CN="%E5%8C%97%E6%B5%B7%E9%81%93%E4%B8%AD%E5%B0%8F%E4%BC%81%E6%A5%AD%E5%AE%B6%E5%90%8C%E5%8F%8B%E4%BC%9A%E3%81%A8%E3%81%8B%E3%81%A1%E6%94%AF%E9%83%A8":MAILTO:tokachi@hokkaido.doyu.jp
END:VEVENT
END:VCALENDAR