BEGIN:VCALENDAR
VERSION:2.0
PRODID:-//北海道中小企業家同友会とかち支部 - ECPv4.6.8//NONSGML v1.0//EN
CALSCALE:GREGORIAN
METHOD:PUBLISH
X-WR-CALNAME:北海道中小企業家同友会とかち支部
X-ORIGINAL-URL:https://tokachi-obihiro.doyu.jp
X-WR-CALDESC:Events for 北海道中小企業家同友会とかち支部
BEGIN:VEVENT
DTSTART;TZID=Asia/Tokyo:20240111T190000
DTEND;TZID=Asia/Tokyo:20240111T210000
DTSTAMP:20260421T130620
CREATED:20240111T015004Z
LAST-MODIFIED:20240111T015004Z
UID:24327-1704999600-1705006800@tokachi-obihiro.doyu.jp
SUMMARY:拓の会 第6グループ（とかちカルチャー発信）1月例会
DESCRIPTION:拓の会 第6グループ（とかちカルチャー発信）1月例会\n★直前で恐縮ですが、1月例会のご案内をお送り致します。\n■テーマ：「ふじもり（またはインデアン）コラム」の発表\n■話題提供者：参加者全員\n■日　時：１月１１日(木)　１９：００～２１：００\n■会　場：ふじもり（帯広市西二条南11-8）\n■会　費：実費\n【問い合わせ】\n同友会事務局（担当：山地・山野） 電話：0155-22-3611 \n拓の会 第6グループ（とかちカルチャー発信）1月例会
URL:https://tokachi-obihiro.doyu.jp/event/event24327/
LOCATION:西2条南11丁目8\, 帯広市\, 北海道\, 080-0012\, Japan
CATEGORIES:行事予定告知
ATTACH;FMTTYPE=image/jpeg:https://tokachi-obihiro.doyu.jp/wp/wp-content/uploads/2017/12/thum_logo1.jpg
ORGANIZER;CN="%E5%8C%97%E6%B5%B7%E9%81%93%E4%B8%AD%E5%B0%8F%E4%BC%81%E6%A5%AD%E5%AE%B6%E5%90%8C%E5%8F%8B%E4%BC%9A%E3%81%A8%E3%81%8B%E3%81%A1%E6%94%AF%E9%83%A8":MAILTO:tokachi@hokkaido.doyu.jp
END:VEVENT
END:VCALENDAR