BEGIN:VCALENDAR
VERSION:2.0
PRODID:-//北海道中小企業家同友会とかち支部 - ECPv4.6.8//NONSGML v1.0//EN
CALSCALE:GREGORIAN
METHOD:PUBLISH
X-WR-CALNAME:北海道中小企業家同友会とかち支部
X-ORIGINAL-URL:https://tokachi-obihiro.doyu.jp
X-WR-CALDESC:Events for 北海道中小企業家同友会とかち支部
BEGIN:VEVENT
DTSTART;TZID=Asia/Tokyo:20240116T183000
DTEND;TZID=Asia/Tokyo:20240116T203000
DTSTAMP:20260422T084547
CREATED:20240104T061143Z
LAST-MODIFIED:20240104T061143Z
UID:24277-1705429800-1705437000@tokachi-obihiro.doyu.jp
SUMMARY:すきまＣａｆｅ　野花の会×とかち支部広報委員会
DESCRIPTION:◇日　時　１月１６日（火）１８：３０～２０:３０\n◇場　所　ＺＯＯＭ開催（IDなどは近くなりましたらご連絡いたします）\n時間内出入り自由 \nすきまＣａｆｅ　野花の会×とかち支部広報委員会
URL:https://tokachi-obihiro.doyu.jp/event/event24277/
CATEGORIES:行事予定告知
ATTACH;FMTTYPE=image/jpeg:https://tokachi-obihiro.doyu.jp/wp/wp-content/uploads/2017/12/thum_logo1.jpg
ORGANIZER;CN="%E5%8C%97%E6%B5%B7%E9%81%93%E4%B8%AD%E5%B0%8F%E4%BC%81%E6%A5%AD%E5%AE%B6%E5%90%8C%E5%8F%8B%E4%BC%9A%E3%81%A8%E3%81%8B%E3%81%A1%E6%94%AF%E9%83%A8":MAILTO:tokachi@hokkaido.doyu.jp
END:VEVENT
END:VCALENDAR