BEGIN:VCALENDAR
VERSION:2.0
PRODID:-//北海道中小企業家同友会とかち支部 - ECPv4.6.8//NONSGML v1.0//EN
CALSCALE:GREGORIAN
METHOD:PUBLISH
X-WR-CALNAME:北海道中小企業家同友会とかち支部
X-ORIGINAL-URL:https://tokachi-obihiro.doyu.jp
X-WR-CALDESC:Events for 北海道中小企業家同友会とかち支部
BEGIN:VEVENT
DTSTART;TZID=Asia/Tokyo:20231207T183000
DTEND;TZID=Asia/Tokyo:20231207T203000
DTSTAMP:20260421T142504
CREATED:20231130T043326Z
LAST-MODIFIED:20231130T043326Z
UID:24081-1701973800-1701981000@tokachi-obihiro.doyu.jp
SUMMARY:女性部会１２月例会（望年会）
DESCRIPTION:女性部会望年会（12月例会）を下記の通り開催いたします。\n◆と　き：１２月７日（木）１８:３０～２０:３０\n◆会　場： 蔵戸（帯広市東４条南１３丁目１３−１）\n◆参加費： 6\,000円程度\n　　　　　※アルコールを飲まれる方のお車の運転はお控えください。\n　　　　　　キャンセルについては会費が発生する場合がございますので、あらかじめご了承願います。\n出欠のご回答は、12月4日（月）までにお願いいたします。\nお問合わせは同友会事務局（担当：末武）まで　TEL:0155-22-3611 \n女性部会１２月例会（望年会）
URL:https://tokachi-obihiro.doyu.jp/event/event24081/
LOCATION:帯広市東4条南13-13-1\, 北海道\, Japan
CATEGORIES:行事予定告知
ATTACH;FMTTYPE=image/jpeg:https://tokachi-obihiro.doyu.jp/wp/wp-content/uploads/2017/12/thum_logo1.jpg
ORGANIZER;CN="%E5%8C%97%E6%B5%B7%E9%81%93%E4%B8%AD%E5%B0%8F%E4%BC%81%E6%A5%AD%E5%AE%B6%E5%90%8C%E5%8F%8B%E4%BC%9A%E3%81%A8%E3%81%8B%E3%81%A1%E6%94%AF%E9%83%A8":MAILTO:tokachi@hokkaido.doyu.jp
END:VEVENT
END:VCALENDAR