BEGIN:VCALENDAR
VERSION:2.0
PRODID:-//北海道中小企業家同友会とかち支部 - ECPv4.6.8//NONSGML v1.0//EN
CALSCALE:GREGORIAN
METHOD:PUBLISH
X-WR-CALNAME:北海道中小企業家同友会とかち支部
X-ORIGINAL-URL:https://tokachi-obihiro.doyu.jp
X-WR-CALDESC:Events for 北海道中小企業家同友会とかち支部
BEGIN:VEVENT
DTSTART;TZID=Asia/Tokyo:20231201T190000
DTEND;TZID=Asia/Tokyo:20231201T203000
DTSTAMP:20260423T144427
CREATED:20231129T053219Z
LAST-MODIFIED:20231129T053219Z
UID:24076-1701457200-1701462600@tokachi-obihiro.doyu.jp
SUMMARY:第9回広報委員会
DESCRIPTION:■会合名：第9回広報委員会\n■日　時：12月1日（金）19：00～20：30\n■会　場：同友会とかち支部事務所（帯広市東2条南5丁目）またはZOOＭ\n■主な議題\n1）今後の広報企画・活動について\n2）道北あさひかわ支部女性部とのオンライン例会について\n3）その他 \n第9回広報委員会
URL:https://tokachi-obihiro.doyu.jp/event/event24076/
LOCATION:北海道帯広市東2条南5丁目1-1\, Japan
CATEGORIES:行事予定告知
ATTACH;FMTTYPE=image/jpeg:https://tokachi-obihiro.doyu.jp/wp/wp-content/uploads/2017/12/thum_logo1.jpg
ORGANIZER;CN="%E5%8C%97%E6%B5%B7%E9%81%93%E4%B8%AD%E5%B0%8F%E4%BC%81%E6%A5%AD%E5%AE%B6%E5%90%8C%E5%8F%8B%E4%BC%9A%E3%81%A8%E3%81%8B%E3%81%A1%E6%94%AF%E9%83%A8":MAILTO:tokachi@hokkaido.doyu.jp
END:VEVENT
END:VCALENDAR