BEGIN:VCALENDAR
VERSION:2.0
PRODID:-//北海道中小企業家同友会とかち支部 - ECPv4.6.8//NONSGML v1.0//EN
CALSCALE:GREGORIAN
METHOD:PUBLISH
X-WR-CALNAME:北海道中小企業家同友会とかち支部
X-ORIGINAL-URL:https://tokachi-obihiro.doyu.jp
X-WR-CALDESC:Events for 北海道中小企業家同友会とかち支部
BEGIN:VEVENT
DTSTART;TZID=Asia/Tokyo:20231218T173000
DTEND;TZID=Asia/Tokyo:20231218T210000
DTSTAMP:20260425T110632
CREATED:20231124T040658Z
LAST-MODIFIED:20231124T041125Z
UID:24035-1702920600-1702933200@tokachi-obihiro.doyu.jp
SUMMARY:農業経営部会12月望年例会
DESCRIPTION:＜パネルディスカッション＞―――――――――――――――――――――――\nテーマ：十勝ワイナリーの今後の展開と連携について\nパネリスト：十勝まきばの家ワイナリー 会長 林　　秀康 氏\nめむろワイナリー(株) 社長 尾藤　光一 氏\n池田町ブドウ・ブドウ酒研究所 所長 南　　邦治 氏\n相澤ワイナリー 　　 代表 　　 相澤　一郎 氏\nコーディネーター： (株)アグリシステム 社長 伊藤　英拓 氏\n――――――――――――――――――――――――――――――――――――――――――――――― \nと き：１２月１８日(月)１７:３０～２１:００\n【パネルディスカッション】17：30～19：00　【望年会】19：15～21：00\nところ：北海道ホテル（帯広市西７条南19丁目1）\n会 費：12\,000円（例会参加費として、試飲代・懇親会費含む） \n※食事手配の都合上、12/14(木)までに出欠回答をお願いします。\n※12/15以降のキャンセルは会費を申し受けますことをご了承ください。\n※領収書は同友会から発行 \n【試飲について】ワイン30ml×5杯を試飲\nアルコールを飲めない方にはぶどうジュース・サイダーをご用意します。\n※望年例会終了後、二次会もご用意しております。ご参加ください。\n会場：農家バル FOOD BABY（帯広市西2条南9丁目20−1　2F）\n会費：3\,000円 \nPDFはこちら \n農業経営部会12月望年例会
URL:https://tokachi-obihiro.doyu.jp/event/event24035/
LOCATION:西7条南19丁目1\, 帯広市\, 北海道\, 080-8511
CATEGORIES:行事予定告知
ATTACH;FMTTYPE=image/jpeg:https://tokachi-obihiro.doyu.jp/wp/wp-content/uploads/2017/12/thum_logo1.jpg
ORGANIZER;CN="%E5%8C%97%E6%B5%B7%E9%81%93%E4%B8%AD%E5%B0%8F%E4%BC%81%E6%A5%AD%E5%AE%B6%E5%90%8C%E5%8F%8B%E4%BC%9A%E3%81%A8%E3%81%8B%E3%81%A1%E6%94%AF%E9%83%A8":MAILTO:tokachi@hokkaido.doyu.jp
END:VEVENT
END:VCALENDAR