BEGIN:VCALENDAR
VERSION:2.0
PRODID:-//北海道中小企業家同友会とかち支部 - ECPv4.6.8//NONSGML v1.0//EN
CALSCALE:GREGORIAN
METHOD:PUBLISH
X-WR-CALNAME:北海道中小企業家同友会とかち支部
X-ORIGINAL-URL:https://tokachi-obihiro.doyu.jp
X-WR-CALDESC:Events for 北海道中小企業家同友会とかち支部
BEGIN:VEVENT
DTSTART;TZID=Asia/Tokyo:20231219T183000
DTEND;TZID=Asia/Tokyo:20231219T210000
DTSTAMP:20260421T180100
CREATED:20231121T053336Z
LAST-MODIFIED:20231121T053336Z
UID:24023-1703010600-1703019600@tokachi-obihiro.doyu.jp
SUMMARY:青年経営者の会　臨時総会・望年例会
DESCRIPTION:青年経営者の会臨時総会と望年例会を開催致します。\n臨時総会では来期の活動に向けて、新年度の世話人代表ならびに世話人の選出・承認を行います。\n例会では、十勝ガーデンズホテル等を経営する（有）ホテル十勝屋　後藤社長に報告いただきます。\n終了後は、懇親会で交流を深めましょう。\n━━━━━━━━━━━━━━━━━━━━━━━━━━\n■日　時／12月19日（火）18：30～21：00\n■会　場／十勝ガーデンズホテル（帯広市西2条南11丁目16）\n■参加費／6\,000円（お食事代等として）※領収書は同友会から発行\n・臨時総会、例会のみの参加は無料\n・会場開催です。Zoomの併設はございません。\n・12月16日（土）以降のキャンセルは会費を申し受けます。\n━━━━━━━━━━━━━━━━━━━━━━━━━━\n＜タイムスケジュール＞\n　１．臨時総会　18：30～18：50\n　　　議　題：①2024年度世話人代表選出に関して\n　　　　　　　②2024年度世話人選出に関して\n　２．例会　18：50～19：20\n　　　報告者：(有)ホテル十勝屋　取締役社長　後藤　陽介　氏\n　３．懇親会　19：30～21：00\n–MyDoyuで回答される方へ–\nシステムの都合で「欠席」を選択後、委任状を選択する項目を作成できないため、\n総会を欠席される方は「出席者に議決を委任」とさせて頂きます。\n尚、委任しない方は理由を連絡事項欄に入力して下さい。\n********************************************\n総会成立には青年経営者の会　会員の過半数の賛成\n（委任状含む）が必要です。必ずお返事をお願いします！\n******************************************** \nPDFはこちら \n青年経営者の会　臨時総会・望年例会
URL:https://tokachi-obihiro.doyu.jp/event/event24023/
LOCATION:帯広市西2条南11丁目16\, 帯広市\, 北海道\, Japan
CATEGORIES:行事予定告知
ATTACH;FMTTYPE=image/jpeg:https://tokachi-obihiro.doyu.jp/wp/wp-content/uploads/2017/12/thum_logo1.jpg
ORGANIZER;CN="%E5%8C%97%E6%B5%B7%E9%81%93%E4%B8%AD%E5%B0%8F%E4%BC%81%E6%A5%AD%E5%AE%B6%E5%90%8C%E5%8F%8B%E4%BC%9A%E3%81%A8%E3%81%8B%E3%81%A1%E6%94%AF%E9%83%A8":MAILTO:tokachi@hokkaido.doyu.jp
END:VEVENT
END:VCALENDAR