BEGIN:VCALENDAR
VERSION:2.0
PRODID:-//北海道中小企業家同友会とかち支部 - ECPv4.6.8//NONSGML v1.0//EN
CALSCALE:GREGORIAN
METHOD:PUBLISH
X-WR-CALNAME:北海道中小企業家同友会とかち支部
X-ORIGINAL-URL:https://tokachi-obihiro.doyu.jp
X-WR-CALDESC:Events for 北海道中小企業家同友会とかち支部
BEGIN:VEVENT
DTSTART;TZID=Asia/Tokyo:20231023T120000
DTEND;TZID=Asia/Tokyo:20231023T140000
DTSTAMP:20260422T131518
CREATED:20230926T015240Z
LAST-MODIFIED:20230926T015240Z
UID:23696-1698062400-1698069600@tokachi-obihiro.doyu.jp
SUMMARY:環境部会　第7回世話人会
DESCRIPTION:環境部会世話人会を開催いたします。\nお忙しい中とは存じますがぜひご予定ください。何卒よろしくお願いいたします。\n————————————————————————\n■と　き／１０月２３日（月）１２：００～１４：００\n■ところ／ナチュラル・ココ本店２階　またはZOOM参加\n　　　　（帯広市西１０条南１丁目１０－３）\n■会　費／1\,100円（食事代として）＊領収証はお店からの発行となります\n■議　題／①１０月例会の振り返り\n　　　　　②１１月四国視察研修の進捗状況\n　　　　　③１２月以降の例会について\n————————————————————————\n※準備の関係上、１０月１９日（木）までに出欠回答をお願いします。\n※お問い合わせは同友会事務局（担当：門脇、末武）まで。電話0155-22-3611 \n環境部会　第7回世話人会
URL:https://tokachi-obihiro.doyu.jp/event/event23696/
LOCATION:北海道帯広市西10条南1丁目10-3\, Japan
CATEGORIES:行事予定告知
ATTACH;FMTTYPE=image/jpeg:https://tokachi-obihiro.doyu.jp/wp/wp-content/uploads/2017/12/thum_logo1.jpg
ORGANIZER;CN="%E5%8C%97%E6%B5%B7%E9%81%93%E4%B8%AD%E5%B0%8F%E4%BC%81%E6%A5%AD%E5%AE%B6%E5%90%8C%E5%8F%8B%E4%BC%9A%E3%81%A8%E3%81%8B%E3%81%A1%E6%94%AF%E9%83%A8":MAILTO:tokachi@hokkaido.doyu.jp
END:VEVENT
END:VCALENDAR