BEGIN:VCALENDAR
VERSION:2.0
PRODID:-//北海道中小企業家同友会とかち支部 - ECPv4.6.8//NONSGML v1.0//EN
CALSCALE:GREGORIAN
METHOD:PUBLISH
X-WR-CALNAME:北海道中小企業家同友会とかち支部
X-ORIGINAL-URL:https://tokachi-obihiro.doyu.jp
X-WR-CALDESC:Events for 北海道中小企業家同友会とかち支部
BEGIN:VEVENT
DTSTART;TZID=Asia/Tokyo:20231023T190000
DTEND;TZID=Asia/Tokyo:20231023T210000
DTSTAMP:20260420T171442
CREATED:20230914T013232Z
LAST-MODIFIED:20230914T013232Z
UID:23636-1698087600-1698094800@tokachi-obihiro.doyu.jp
SUMMARY:第3回いろはの会
DESCRIPTION:【テーマ】私と同友会活動について\n【話題提供者】\n　☆共育委員会　副委員長（２００２年入会）\n　　(株)ホーム創建　代表取締役　三品　弘一 氏\n　☆社会福祉委員会　副委員長（２０２１年入会）\n　　社会保険労務士法人土田陽子事務所　代表社員　土田　陽子 氏 \n■日　時：１０月２３日（月）１９：００～２１：００\n■会　場：同友会事務所（帯広市東2条南5丁目1）\n■対　象：2022年4月～23年9月に入会された方にご案内しております \n第3回いろはの会
URL:https://tokachi-obihiro.doyu.jp/event/event23636/
LOCATION:北海道帯広市東2条南5丁目1-1\, Japan
CATEGORIES:行事予定告知
ATTACH;FMTTYPE=image/jpeg:https://tokachi-obihiro.doyu.jp/wp/wp-content/uploads/2017/12/thum_logo1.jpg
ORGANIZER;CN="%E5%8C%97%E6%B5%B7%E9%81%93%E4%B8%AD%E5%B0%8F%E4%BC%81%E6%A5%AD%E5%AE%B6%E5%90%8C%E5%8F%8B%E4%BC%9A%E3%81%A8%E3%81%8B%E3%81%A1%E6%94%AF%E9%83%A8":MAILTO:tokachi@hokkaido.doyu.jp
END:VEVENT
END:VCALENDAR