BEGIN:VCALENDAR
VERSION:2.0
PRODID:-//北海道中小企業家同友会とかち支部 - ECPv4.6.8//NONSGML v1.0//EN
CALSCALE:GREGORIAN
METHOD:PUBLISH
X-WR-CALNAME:北海道中小企業家同友会とかち支部
X-ORIGINAL-URL:https://tokachi-obihiro.doyu.jp
X-WR-CALDESC:Events for 北海道中小企業家同友会とかち支部
BEGIN:VEVENT
DTSTART;TZID=Asia/Tokyo:20231013T190000
DTEND;TZID=Asia/Tokyo:20231013T210000
DTSTAMP:20260422T160759
CREATED:20230908T050617Z
LAST-MODIFIED:20230908T050617Z
UID:23600-1697223600-1697230800@tokachi-obihiro.doyu.jp
SUMMARY:拓の会 第9グループ（よろず見聞学（楽）） 10月例会
DESCRIPTION:拓の会 第9グループ（よろず見聞学（楽）） 10月例会\n■テーマ：地域の経済～十勝経済の近況と考察～\n■報告者：参加者全員\n■日　時：１０月１３日(金)　１９：００～２１：００\n■会　場：とかちプラザ304（帯広市西4条南13丁目1）※ZOOMはありません。\n出欠のご回答は、１０月１１日（水）までにお願いいたします。\n【問い合わせ】\n同友会事務局（担当：門脇・山野） 電話：0155-22-3611 \n拓の会 第9グループ（よろず見聞学（楽）） 10月例会
URL:https://tokachi-obihiro.doyu.jp/event/event23600/
LOCATION:帯広市西4条南13丁目1\, 北海道\, Japan
CATEGORIES:行事予定告知
ATTACH;FMTTYPE=image/jpeg:https://tokachi-obihiro.doyu.jp/wp/wp-content/uploads/2017/12/thum_logo1.jpg
ORGANIZER;CN="%E5%8C%97%E6%B5%B7%E9%81%93%E4%B8%AD%E5%B0%8F%E4%BC%81%E6%A5%AD%E5%AE%B6%E5%90%8C%E5%8F%8B%E4%BC%9A%E3%81%A8%E3%81%8B%E3%81%A1%E6%94%AF%E9%83%A8":MAILTO:tokachi@hokkaido.doyu.jp
END:VEVENT
END:VCALENDAR