BEGIN:VCALENDAR
VERSION:2.0
PRODID:-//北海道中小企業家同友会とかち支部 - ECPv4.6.8//NONSGML v1.0//EN
CALSCALE:GREGORIAN
METHOD:PUBLISH
X-WR-CALNAME:北海道中小企業家同友会とかち支部
X-ORIGINAL-URL:https://tokachi-obihiro.doyu.jp
X-WR-CALDESC:Events for 北海道中小企業家同友会とかち支部
BEGIN:VEVENT
DTSTART;TZID=Asia/Tokyo:20230821T190000
DTEND;TZID=Asia/Tokyo:20230821T213000
DTSTAMP:20260421T142612
CREATED:20230811T015302Z
LAST-MODIFIED:20230811T021113Z
UID:23429-1692644400-1692653400@tokachi-obihiro.doyu.jp
SUMMARY:経営指針研究会Aグループ第6講
DESCRIPTION:■日　時：8月21日（月）19：00～21：30\n■会　場：（株）しあわせチーズ工房（足寄町茂喜登牛141-4）\n■課　題：10年ビジョン検討シート\n■発表者：全員 \n※希望者による任意参加ですが18：00より（株）しあわせチーズ工房の見学会を行います。\n　\n※シートは２日前までに事務局　北村まで提出願います。\n　研究会では経営理念検討シートも添付しますので、\n　修正ある方は合わせて提出お願いいたします。 \n※ご不明な点はグループ長、委員長、事務局まで。 \n経営指針研究会Aグループ第6講
URL:https://tokachi-obihiro.doyu.jp/event/event23429/
LOCATION:海道足寄郡足寄郡足寄町茂喜登牛１４１−４\, Japan
CATEGORIES:行事予定告知
ATTACH;FMTTYPE=image/jpeg:https://tokachi-obihiro.doyu.jp/wp/wp-content/uploads/2017/12/thum_logo1.jpg
ORGANIZER;CN="%E5%8C%97%E6%B5%B7%E9%81%93%E4%B8%AD%E5%B0%8F%E4%BC%81%E6%A5%AD%E5%AE%B6%E5%90%8C%E5%8F%8B%E4%BC%9A%E3%81%A8%E3%81%8B%E3%81%A1%E6%94%AF%E9%83%A8":MAILTO:tokachi@hokkaido.doyu.jp
END:VEVENT
END:VCALENDAR