BEGIN:VCALENDAR
VERSION:2.0
PRODID:-//北海道中小企業家同友会とかち支部 - ECPv4.6.8//NONSGML v1.0//EN
CALSCALE:GREGORIAN
METHOD:PUBLISH
X-WR-CALNAME:北海道中小企業家同友会とかち支部
X-ORIGINAL-URL:https://tokachi-obihiro.doyu.jp
X-WR-CALDESC:Events for 北海道中小企業家同友会とかち支部
BEGIN:VEVENT
DTSTART;TZID=Asia/Tokyo:20230719T190000
DTEND;TZID=Asia/Tokyo:20230719T210000
DTSTAMP:20260421T101336
CREATED:20230630T013604Z
LAST-MODIFIED:20230630T013604Z
UID:23039-1689793200-1689800400@tokachi-obihiro.doyu.jp
SUMMARY:清水地区会　7月例会
DESCRIPTION:【テーマ】\n今更聞けない『脱炭素』\n～企業でできることを考えよう！～\n講師：清水町役場　企画課長　鈴木　聡　氏 \n■日　時；７月１９日（水）１９：００～２１：００\n■会　場；清水町文化センター　会議室1\n（清水町南3条3丁目1番地）\n■会　費；無料 \n準備の関係上、7月13日（木）までに出欠のご回答をお願いいたします。\nお問い合わせは同友会事務局まで。電話：0155-22-3611 \nPDFはこちら \n清水地区会　7月例会
URL:https://tokachi-obihiro.doyu.jp/event/event23039/
LOCATION:北海道上川郡清水町南3条3-1\, Japan
CATEGORIES:行事予定告知
ATTACH;FMTTYPE=image/jpeg:https://tokachi-obihiro.doyu.jp/wp/wp-content/uploads/2017/12/thum_logo1.jpg
ORGANIZER;CN="%E5%8C%97%E6%B5%B7%E9%81%93%E4%B8%AD%E5%B0%8F%E4%BC%81%E6%A5%AD%E5%AE%B6%E5%90%8C%E5%8F%8B%E4%BC%9A%E3%81%A8%E3%81%8B%E3%81%A1%E6%94%AF%E9%83%A8":MAILTO:tokachi@hokkaido.doyu.jp
END:VEVENT
END:VCALENDAR