BEGIN:VCALENDAR
VERSION:2.0
PRODID:-//北海道中小企業家同友会とかち支部 - ECPv4.6.8//NONSGML v1.0//EN
CALSCALE:GREGORIAN
METHOD:PUBLISH
X-WR-CALNAME:北海道中小企業家同友会とかち支部
X-ORIGINAL-URL:https://tokachi-obihiro.doyu.jp
X-WR-CALDESC:Events for 北海道中小企業家同友会とかち支部
BEGIN:VEVENT
DTSTART;TZID=Asia/Tokyo:20230524T190000
DTEND;TZID=Asia/Tokyo:20230524T210000
DTSTAMP:20260422T102406
CREATED:20230419T085917Z
LAST-MODIFIED:20230419T085917Z
UID:22396-1684954800-1684962000@tokachi-obihiro.doyu.jp
SUMMARY:とかち支部５月例会
DESCRIPTION:■テーマ／リブランディングで企業変革　～社員が誇りを持てるモノづくり企業へ～ \n■報告者／(株)ササキ工芸　代表取締役　佐々木　雄二郎　氏\n　　　　　　　　　　　　　　（道北あさひかわ支部幹事長） \n  \nササキ工芸　から　SASAKI　へ\n旭川の地で家具の下請け工場から始まったササキ工芸は、2022年にリブランディングで\n商品を刷新。商品単価を1.5倍～3倍に上げ、生産数を落として品質重視のモノづくりへ\nシフトしました。リブランディングは社員の意識にも変化をもたらし、特に若手社員が\nイキイキと働くようになりました。\n自社の価値や役割を見直し、企業変革に至ったササキ工芸の事例から学びます。 \n＜プロフィール＞\n1976年、家具の下請け工場として佐々木氏の父が創業。90年代に木製小物へシフトし、\n現在は約100品目のオリジナル木製小物と特注木製品を製造・販売。\n佐々木氏は2002年に後継者として入社し、2011年、先代の急逝により37歳で社長に就任。\n2012年に経営指針研究会を受講し、その学びを経営に生かし自社のリブランディングに着手。\n従業員数24名、年商2億円。 \n━━━━━━━━━━━━━━━━━━━━━━━\n■日　時：5月24日（水）19：00～21：00\n■会　場：とかち館（帯広市西7条南6丁目2）\n　　　　　またはZoom参加\n■会　費：一社1\,000円 \n・未会員3回まで無料・4回目以降3\,000円\n・Zoomの方は後日請求書をお送りします。\n・当日のキャンセルは会費を申し受けます。\n・前日までにZoomIDと資料をお送りします。\n━━━━━━━━━━━━━━━━━━━━━━━ \n※まだ入会していない、お知り合いの経営者を誘って是非一緒にご参加下さい。 \nPDFはこちら \nとかち支部５月例会
URL:https://tokachi-obihiro.doyu.jp/event/event22396/
LOCATION:北海道帯広市西7条6丁目2\, 080-0017\, Japan
CATEGORIES:行事予定告知
ATTACH;FMTTYPE=image/jpeg:https://tokachi-obihiro.doyu.jp/wp/wp-content/uploads/2017/12/thum_logo1.jpg
ORGANIZER;CN="%E5%8C%97%E6%B5%B7%E9%81%93%E4%B8%AD%E5%B0%8F%E4%BC%81%E6%A5%AD%E5%AE%B6%E5%90%8C%E5%8F%8B%E4%BC%9A%E3%81%A8%E3%81%8B%E3%81%A1%E6%94%AF%E9%83%A8":MAILTO:tokachi@hokkaido.doyu.jp
END:VEVENT
END:VCALENDAR