BEGIN:VCALENDAR
VERSION:2.0
PRODID:-//北海道中小企業家同友会とかち支部 - ECPv4.6.8//NONSGML v1.0//EN
CALSCALE:GREGORIAN
METHOD:PUBLISH
X-WR-CALNAME:北海道中小企業家同友会とかち支部
X-ORIGINAL-URL:https://tokachi-obihiro.doyu.jp
X-WR-CALDESC:Events for 北海道中小企業家同友会とかち支部
BEGIN:VEVENT
DTSTART;TZID=Asia/Tokyo:20230516T190000
DTEND;TZID=Asia/Tokyo:20230516T210000
DTSTAMP:20260424T165553
CREATED:20230411T005136Z
LAST-MODIFIED:20230411T005136Z
UID:22359-1684263600-1684270800@tokachi-obihiro.doyu.jp
SUMMARY:IT総合研究会5月オープン例会
DESCRIPTION:オープン例会のためどなたでもご参加可能です！少しでもITに興味のある方はぜひお越しください。 \n≪テーマ≫我々の生活・仕事はＡＩでどう変わる？\n≪講師≫札幌市立大学　学長 中島 秀之　氏 \n■と　き／５月１６日（火） 19:00～21:00\n■ところ／とかちプラザ 視聴覚室（帯広市西4条南13丁目1）or　Zoom\n■参加費／無料 \n準備の関係上、5月１２日（金）までに出欠回答をお願いします。\nお問い合わせは同友会事務局（担当：村上、山地）まで。電話：0155-22-3611 \nPDFはこちら \nIT総合研究会5月オープン例会
URL:https://tokachi-obihiro.doyu.jp/event/event22359/
LOCATION:帯広市西4条南13丁目1\, 帯広市\, 北海道\, Japan
CATEGORIES:行事予定告知
ATTACH;FMTTYPE=image/jpeg:https://tokachi-obihiro.doyu.jp/wp/wp-content/uploads/2017/12/thum_logo1.jpg
ORGANIZER;CN="%E5%8C%97%E6%B5%B7%E9%81%93%E4%B8%AD%E5%B0%8F%E4%BC%81%E6%A5%AD%E5%AE%B6%E5%90%8C%E5%8F%8B%E4%BC%9A%E3%81%A8%E3%81%8B%E3%81%A1%E6%94%AF%E9%83%A8":MAILTO:tokachi@hokkaido.doyu.jp
END:VEVENT
END:VCALENDAR