BEGIN:VCALENDAR
VERSION:2.0
PRODID:-//北海道中小企業家同友会とかち支部 - ECPv4.6.8//NONSGML v1.0//EN
CALSCALE:GREGORIAN
METHOD:PUBLISH
X-WR-CALNAME:北海道中小企業家同友会とかち支部
X-ORIGINAL-URL:https://tokachi-obihiro.doyu.jp
X-WR-CALDESC:Events for 北海道中小企業家同友会とかち支部
BEGIN:VEVENT
DTSTART;TZID=Asia/Tokyo:20230203T190000
DTEND;TZID=Asia/Tokyo:20230203T210000
DTSTAMP:20260420T211552
CREATED:20230126T051934Z
LAST-MODIFIED:20230126T052410Z
UID:21801-1675450800-1675458000@tokachi-obihiro.doyu.jp
SUMMARY:拓の会2月例会（第1グループ） ～侃々諤々～
DESCRIPTION:■テーマ：十勝のこれからを考える会 ～自社の業界から見る十勝の未来像～\n■パネリスト：\n　　　　(株)クナウパブリッシング　　代表取締役社長　高原　淳 氏　(情報発信業)\n　　　　高嶋コンクリート工業(株)　　代表取締役　加藤 貴裕 氏　(製造業)\n　　　　デジタルグラフィックス(株)　代表取締役　河村 知明 氏　(IT関連業\n　　　　リブラス(株)　　　　　　　　帯広支店長　服部 直幸 氏　(保険業)\n　　　　　　　\n■日時：２月３日(金)１９：００～２１:００\n■会場：とかち館（帯広市西7条南6丁目2）\n　　　　またはＺＯＯＭでの参加\n■参加費：無料 \n【備考】\n(1)Zoom参加者の方は後程、ID・パスワードを送付致します。\n(2)出欠回答期限　1/27（金）\n【年間スケジュール】\n※原則、第３水曜日開催\n３月１５日・水\n【問い合わせ】\n同友会事務局（担当：佐々木・梶） 電話：0155-22-3611 \n拓の会2月例会（第1グループ） ～侃々諤々～
URL:https://tokachi-obihiro.doyu.jp/event/event21801/
LOCATION:帯広市西7条南６丁目２\, 北海道\, Japan
CATEGORIES:行事予定告知
ATTACH;FMTTYPE=image/jpeg:https://tokachi-obihiro.doyu.jp/wp/wp-content/uploads/2017/12/thum_logo1.jpg
ORGANIZER;CN="%E5%8C%97%E6%B5%B7%E9%81%93%E4%B8%AD%E5%B0%8F%E4%BC%81%E6%A5%AD%E5%AE%B6%E5%90%8C%E5%8F%8B%E4%BC%9A%E3%81%A8%E3%81%8B%E3%81%A1%E6%94%AF%E9%83%A8":MAILTO:tokachi@hokkaido.doyu.jp
END:VEVENT
END:VCALENDAR