BEGIN:VCALENDAR
VERSION:2.0
PRODID:-//北海道中小企業家同友会とかち支部 - ECPv4.6.8//NONSGML v1.0//EN
CALSCALE:GREGORIAN
METHOD:PUBLISH
X-WR-CALNAME:北海道中小企業家同友会とかち支部
X-ORIGINAL-URL:https://tokachi-obihiro.doyu.jp
X-WR-CALDESC:Events for 北海道中小企業家同友会とかち支部
BEGIN:VEVENT
DTSTART;TZID=Asia/Tokyo:20180312T190000
DTEND;TZID=Asia/Tokyo:20180312T210000
DTSTAMP:20260420T134433
CREATED:20180226T063848Z
LAST-MODIFIED:20180226T064014Z
UID:2171-1520881200-1520888400@tokachi-obihiro.doyu.jp
SUMMARY:新会員ガイダンス
DESCRIPTION:■日 時； ３月１２日(月) 1９:００～２１:００ \n■会 場； 同友会事務所 （帯広市東２条南５丁目１） \nPDFはこちら \n新会員ガイダンス
URL:https://tokachi-obihiro.doyu.jp/event/event2171/
LOCATION:北海道帯広市東2条南5丁目1-1\, Japan
CATEGORIES:行事予定告知
ATTACH;FMTTYPE=image/jpeg:https://tokachi-obihiro.doyu.jp/wp/wp-content/uploads/2017/12/thum_logo1.jpg
END:VEVENT
END:VCALENDAR