BEGIN:VCALENDAR
VERSION:2.0
PRODID:-//北海道中小企業家同友会とかち支部 - ECPv4.6.8//NONSGML v1.0//EN
CALSCALE:GREGORIAN
METHOD:PUBLISH
X-WR-CALNAME:北海道中小企業家同友会とかち支部
X-ORIGINAL-URL:https://tokachi-obihiro.doyu.jp
X-WR-CALDESC:Events for 北海道中小企業家同友会とかち支部
BEGIN:VEVENT
DTSTART;TZID=Asia/Tokyo:20230203T190000
DTEND;TZID=Asia/Tokyo:20230203T210000
DTSTAMP:20260420T200702
CREATED:20230110T045948Z
LAST-MODIFIED:20230110T050031Z
UID:21618-1675450800-1675458000@tokachi-obihiro.doyu.jp
SUMMARY:２０２２年度拓の会フォーラム
DESCRIPTION:【テーマ】　十勝のこれからを考える会 ～自社の業界から見る十勝の未来像～\n【パネリスト】\n(株)クナウパブリッシング　　代表取締役社長　高原　淳 氏　(情報発信業)\n高嶋コンクリート工業(株)　　代表取締役　加藤 貴裕 氏　(製造業)\nデジタルグラフィックス(株)　代表取締役　河村 知明 氏　(IT関連業)\nリブラス(株)　　　　　　　　帯広支店長　服部 直幸 氏　(保険業)\n【コーディネーター】\n(株)ミドリ機材　　　　　　　代表取締役　小野寺 慎吾 氏\n◆日　時 　２月３日(金)１９：００～２１:００\n◆会　場 　とかち館（帯広市西7条南6丁目2）\nまたはZOOMでの参加（ＩＤ・パスワード後日送付）\n◆参加費 　無　料 \n準備の関係上、１月２７日（金）までに出欠のご回答をお願いいたします。\nお問い合わせは同友会事務局（担当：佐々木）まで。電話：0155-22-3611 \nPDFはこちら \n２０２２年度拓の会フォーラム
URL:https://tokachi-obihiro.doyu.jp/event/event21618/
LOCATION:帯広市西7条南６丁目２\, 北海道\, Japan
CATEGORIES:行事予定告知
ATTACH;FMTTYPE=image/jpeg:https://tokachi-obihiro.doyu.jp/wp/wp-content/uploads/2017/12/thum_logo1.jpg
ORGANIZER;CN="%E5%8C%97%E6%B5%B7%E9%81%93%E4%B8%AD%E5%B0%8F%E4%BC%81%E6%A5%AD%E5%AE%B6%E5%90%8C%E5%8F%8B%E4%BC%9A%E3%81%A8%E3%81%8B%E3%81%A1%E6%94%AF%E9%83%A8":MAILTO:tokachi@hokkaido.doyu.jp
END:VEVENT
END:VCALENDAR