BEGIN:VCALENDAR
VERSION:2.0
PRODID:-//北海道中小企業家同友会とかち支部 - ECPv4.6.8//NONSGML v1.0//EN
CALSCALE:GREGORIAN
METHOD:PUBLISH
X-WR-CALNAME:北海道中小企業家同友会とかち支部
X-ORIGINAL-URL:https://tokachi-obihiro.doyu.jp
X-WR-CALDESC:Events for 北海道中小企業家同友会とかち支部
BEGIN:VEVENT
DTSTART;TZID=Asia/Tokyo:20180302T190000
DTEND;TZID=Asia/Tokyo:20180302T210000
DTSTAMP:20260422T112323
CREATED:20180223T104511Z
LAST-MODIFIED:20180223T104511Z
UID:2160-1520017200-1520024400@tokachi-obihiro.doyu.jp
SUMMARY:女性部会３月例会
DESCRIPTION:と　き：３月２日(金)１９:００～２１:００ \nところ：大地のあきんど（帯広市西1条南9丁目20-1、℡：0155-26-8877） \n参加費：３\,０００円（ご飲食代として）※領収書はお店からの発行 \n※お車でお越しの方は、近隣の有料駐車場をご利用下さい \n※アルコールも出ますので、飲酒される方のお車の運転はご遠慮下さい \nPDFはこちら \n女性部会３月例会
URL:https://tokachi-obihiro.doyu.jp/event/event2160/
LOCATION:帯広市西1条南9丁目20-1\, 帯広市\, 北海道\, Japan
CATEGORIES:行事予定告知
ATTACH;FMTTYPE=image/jpeg:https://tokachi-obihiro.doyu.jp/wp/wp-content/uploads/2017/12/thum_logo1.jpg
END:VEVENT
END:VCALENDAR