BEGIN:VCALENDAR
VERSION:2.0
PRODID:-//北海道中小企業家同友会とかち支部 - ECPv4.6.8//NONSGML v1.0//EN
CALSCALE:GREGORIAN
METHOD:PUBLISH
X-WR-CALNAME:北海道中小企業家同友会とかち支部
X-ORIGINAL-URL:https://tokachi-obihiro.doyu.jp
X-WR-CALDESC:Events for 北海道中小企業家同友会とかち支部
BEGIN:VEVENT
DTSTART;TZID=Asia/Tokyo:20180302T190000
DTEND;TZID=Asia/Tokyo:20180302T210000
DTSTAMP:20260423T125328
CREATED:20180220T090328Z
LAST-MODIFIED:20180220T092136Z
UID:2090-1520017200-1520024400@tokachi-obihiro.doyu.jp
SUMMARY:人生大学３月例会
DESCRIPTION:◇日　時；３月２日（金）　１９：００～２１：００ \n◇会　場；大地のあきんど（帯広市西１条南９丁目２０-１、TEL：０１５５-２６-８８７７） \n◇会　費；３０００円（お食事代として） \n※当日キャンセルは会費を申し受けますことをご了承ください。 \n※領収書はお店からの発行となります。 \nPDFはこちら \n人生大学３月例会
URL:https://tokachi-obihiro.doyu.jp/event/event2090/
LOCATION:帯広市西1条南9丁目20-1\, 帯広市\, 北海道\, Japan
CATEGORIES:行事予定告知
ATTACH;FMTTYPE=image/jpeg:https://tokachi-obihiro.doyu.jp/wp/wp-content/uploads/2017/12/thum_logo1.jpg
END:VEVENT
END:VCALENDAR