BEGIN:VCALENDAR
VERSION:2.0
PRODID:-//北海道中小企業家同友会とかち支部 - ECPv4.6.8//NONSGML v1.0//EN
CALSCALE:GREGORIAN
METHOD:PUBLISH
X-WR-CALNAME:北海道中小企業家同友会とかち支部
X-ORIGINAL-URL:https://tokachi-obihiro.doyu.jp
X-WR-CALDESC:Events for 北海道中小企業家同友会とかち支部
BEGIN:VEVENT
DTSTART;TZID=Asia/Tokyo:20220905T100000
DTEND;TZID=Asia/Tokyo:20220905T120000
DTSTAMP:20260422T130607
CREATED:20220822T010612Z
LAST-MODIFIED:20220822T010657Z
UID:20485-1662372000-1662379200@tokachi-obihiro.doyu.jp
SUMMARY:環境部会９月例会
DESCRIPTION:９月例会は今年の4月に建物が完成した大樹町の新庁舎を見学し、大樹町の環境への取り組みについて学びます。\nLED照明の設置や地中熱エネルギーの利用などにより、\n「ZEB Ready」（ゼブ　レディ：一般建築物と比較しエネルギー消費量を５０％以上削減）にも適合し、\n十勝管内でもトップクラスの省エネ庁舎です。\nぜひ奮ってご参加下さいませ。 \n【テーマ】\n環境にやさしい「ＺＥＢ　Ｒｅａｄｙ」庁舎\n～大樹町役場新庁舎 視察訪問～ \n❑ご案内役：大樹町役場ご担当者様 \n■日　時：９月５日（月）乗り合い９：００出発（現地集合１０：００）\n～（１２：００現地解散）乗り合い１３：３０頃解散 \n■会　場：大樹町役場（大樹町東本通33番地）　\n■参加費：１\,０００円（資料印刷など例会参加費として）※領収書は同友会から発行 \n◎スケジュール\n０９：００　　同友会事務所（帯広市東2条南5丁目1）へ集合\n　　　　　　　参加者乗り合いで移動開始　※乗り合いを希望しない方は現地集合\n１０：００  　大樹町役場 見学\n１２：００　　終了・解散　希望者で昼食\n１３：３０頃　乗り合い参加者 同友会事務所到着・解散 \n準備の関係上、９月１日（木）までに出欠のご回答をお願いいたします。\nお問い合わせは同友会事務局（担当：北村）まで。電話：0155-22-3611 \nPDFはこちら \n環境部会９月例会
URL:https://tokachi-obihiro.doyu.jp/event/event20485/
LOCATION:北海道広尾郡大樹町東本通33\, Japan
CATEGORIES:行事予定告知
ATTACH;FMTTYPE=image/jpeg:https://tokachi-obihiro.doyu.jp/wp/wp-content/uploads/2017/12/thum_logo1.jpg
ORGANIZER;CN="%E5%8C%97%E6%B5%B7%E9%81%93%E4%B8%AD%E5%B0%8F%E4%BC%81%E6%A5%AD%E5%AE%B6%E5%90%8C%E5%8F%8B%E4%BC%9A%E3%81%A8%E3%81%8B%E3%81%A1%E6%94%AF%E9%83%A8":MAILTO:tokachi@hokkaido.doyu.jp
END:VEVENT
END:VCALENDAR