BEGIN:VCALENDAR
VERSION:2.0
PRODID:-//北海道中小企業家同友会とかち支部 - ECPv4.6.8//NONSGML v1.0//EN
CALSCALE:GREGORIAN
METHOD:PUBLISH
X-WR-CALNAME:北海道中小企業家同友会とかち支部
X-ORIGINAL-URL:https://tokachi-obihiro.doyu.jp
X-WR-CALDESC:Events for 北海道中小企業家同友会とかち支部
BEGIN:VEVENT
DTSTART;TZID=Asia/Tokyo:20220725T190000
DTEND;TZID=Asia/Tokyo:20220725T220000
DTSTAMP:20260420T155042
CREATED:20220628T071126Z
LAST-MODIFIED:20220725T021504Z
UID:20042-1658775600-1658786400@tokachi-obihiro.doyu.jp
SUMMARY:【延期】経営指針研究会Bグループ第5講
DESCRIPTION:■日　時：7月25日（月）19：00～22：00\n■会　場：相互電業（株）（帯広市東1条南5丁目2）\n■発表者：全員\n■課　題：経営理念検討シート \n※シートを修正する方は前日までにご提出ください。 \n【延期】経営指針研究会Bグループ第5講
URL:https://tokachi-obihiro.doyu.jp/event/event20042/
LOCATION:帯広市東1条南5丁目2\, 北海道\, Japan
CATEGORIES:行事予定告知
ATTACH;FMTTYPE=image/jpeg:https://tokachi-obihiro.doyu.jp/wp/wp-content/uploads/2017/12/thum_logo1.jpg
ORGANIZER;CN="%E5%8C%97%E6%B5%B7%E9%81%93%E4%B8%AD%E5%B0%8F%E4%BC%81%E6%A5%AD%E5%AE%B6%E5%90%8C%E5%8F%8B%E4%BC%9A%E3%81%A8%E3%81%8B%E3%81%A1%E6%94%AF%E9%83%A8":MAILTO:tokachi@hokkaido.doyu.jp
END:VEVENT
END:VCALENDAR