BEGIN:VCALENDAR
VERSION:2.0
PRODID:-//北海道中小企業家同友会とかち支部 - ECPv4.6.8//NONSGML v1.0//EN
CALSCALE:GREGORIAN
METHOD:PUBLISH
X-WR-CALNAME:北海道中小企業家同友会とかち支部
X-ORIGINAL-URL:https://tokachi-obihiro.doyu.jp
X-WR-CALDESC:Events for 北海道中小企業家同友会とかち支部
BEGIN:VEVENT
DTSTART;TZID=Asia/Tokyo:20220621T190000
DTEND;TZID=Asia/Tokyo:20220621T210000
DTSTAMP:20260424T144510
CREATED:20220613T012339Z
LAST-MODIFIED:20220613T012407Z
UID:19949-1655838000-1655845200@tokachi-obihiro.doyu.jp
SUMMARY:青年経営者の会 第３回例会
DESCRIPTION:第3回例会は、SNSについて学びます。\nSNSで大きな収益を上げている企業や個人が多く存在している中、\n私たち企業は何をどうしたら認知度が高まり自社の価値向上へ結びつけることができるのかを学びます。\n皆様のご参加をお待ちしてます。 \nテーマ／今さら聞けない「ＳＮＳ投稿の基本と応用」\n　　　　ＤＸによって自社の価値を高めよう！\n報告者／東洋（株）　マーケティング事業部主任・プランナー　金生 柊太 氏\n　　　　　　　　　　マーケティング事業部　プランナー　　 岡本 輝 氏 \n＜内容＞\n・各SNSの特徴\n・SNS投稿の基本（投稿、フォロー、シェア、いいね！のやり方）\n・企業としてのSNSの取り組み方\n・良い発信、悪い発信の事例\n・フォロワー、いいね！の数字を上げる方法 \nと　き：６月２１日（火）１９：００～２１：００\nところ：とかちプラザ４０２（帯広市西4条南13丁目1）またはＺｏｏｍ参加\n参加費：無料 \n※終了後に懇親会を行います。会場未定。会費は実費。 \n※会場は収容率50％を基準に社会的距離や換気に配慮して設営します。\nお問い合わせは同友会事務局（担当：門脇）まで。電話：0155-22-3611\n【締切：6/17（金）】 \nPDFはこちら \n青年経営者の会 第３回例会
URL:https://tokachi-obihiro.doyu.jp/event/event19949/
LOCATION:北海道帯広市西4条南13丁目1\, Japan
CATEGORIES:行事予定告知
ATTACH;FMTTYPE=image/jpeg:https://tokachi-obihiro.doyu.jp/wp/wp-content/uploads/2017/12/thum_logo1.jpg
ORGANIZER;CN="%E5%8C%97%E6%B5%B7%E9%81%93%E4%B8%AD%E5%B0%8F%E4%BC%81%E6%A5%AD%E5%AE%B6%E5%90%8C%E5%8F%8B%E4%BC%9A%E3%81%A8%E3%81%8B%E3%81%A1%E6%94%AF%E9%83%A8":MAILTO:tokachi@hokkaido.doyu.jp
END:VEVENT
END:VCALENDAR