BEGIN:VCALENDAR
VERSION:2.0
PRODID:-//北海道中小企業家同友会とかち支部 - ECPv4.6.8//NONSGML v1.0//EN
CALSCALE:GREGORIAN
METHOD:PUBLISH
X-WR-CALNAME:北海道中小企業家同友会とかち支部
X-ORIGINAL-URL:https://tokachi-obihiro.doyu.jp
X-WR-CALDESC:Events for 北海道中小企業家同友会とかち支部
BEGIN:VEVENT
DTSTART;TZID=Asia/Tokyo:20220621T130000
DTEND;TZID=Asia/Tokyo:20220621T150000
DTSTAMP:20260422T144505
CREATED:20220606T054258Z
LAST-MODIFIED:20220606T054258Z
UID:19892-1655816400-1655823600@tokachi-obihiro.doyu.jp
SUMMARY:第１回経営労務委員会
DESCRIPTION:いつも大変お世話になっております。\n第１回経営労務委員会を下記の要領で開催いたします。\n何かとご多用とは存じますが、是非ともご出席下さいますようご案内いたします。 \n————————————————————\n■日　時：６月２１日（火）１３：００～１５：００\n■会　場：同友会とかち事務所 (帯広市東２条南５丁目１)\n　　　　 または ＺＯＯＭでの参加\n議題：\n１）健康経営セミナーの振り返り\n２）今後の例会について\n３）その他 \n第１回経営労務委員会
URL:https://tokachi-obihiro.doyu.jp/event/event19892/
LOCATION:北海道帯広市東2条南5丁目1-1\, Japan
CATEGORIES:行事予定告知
ATTACH;FMTTYPE=image/jpeg:https://tokachi-obihiro.doyu.jp/wp/wp-content/uploads/2017/12/thum_logo1.jpg
ORGANIZER;CN="%E5%8C%97%E6%B5%B7%E9%81%93%E4%B8%AD%E5%B0%8F%E4%BC%81%E6%A5%AD%E5%AE%B6%E5%90%8C%E5%8F%8B%E4%BC%9A%E3%81%A8%E3%81%8B%E3%81%A1%E6%94%AF%E9%83%A8":MAILTO:tokachi@hokkaido.doyu.jp
END:VEVENT
END:VCALENDAR