BEGIN:VCALENDAR
VERSION:2.0
PRODID:-//北海道中小企業家同友会とかち支部 - ECPv4.6.8//NONSGML v1.0//EN
CALSCALE:GREGORIAN
METHOD:PUBLISH
X-WR-CALNAME:北海道中小企業家同友会とかち支部
X-ORIGINAL-URL:https://tokachi-obihiro.doyu.jp
X-WR-CALDESC:Events for 北海道中小企業家同友会とかち支部
BEGIN:VEVENT
DTSTART;TZID=Asia/Tokyo:20220616T190000
DTEND;TZID=Asia/Tokyo:20220616T210000
DTSTAMP:20260422T131519
CREATED:20220606T014625Z
LAST-MODIFIED:20220606T014625Z
UID:19879-1655406000-1655413200@tokachi-obihiro.doyu.jp
SUMMARY:第３回十勝農商工連携部会 幹事会
DESCRIPTION:下記のとおり、十勝農商工連携部会の幹事会を開催いたします。\n何卒ご参加下さいますようお願い申し上げます。 \n◆と  き： ６月１６日(木)１９：００～２１：００\n◆ところ： 同友会とかち支部会議室 (帯広市東２条南５丁目１)\n　　　　またはＺＯＯＭでの参加（ＩＤ・パスワードは後日送付） \n【議題】\n１.各研究会活動について\n農村観光研/ﾋﾞｼﾞﾈｽ開拓研/小規模加工食品研/\n畜大パートナーズ/小麦研\n２.今後の活動について\n３.その他 \n※新型コロナウイルス感染症の感染拡大防止のため、マスク着用と手指消毒をお願いしております。\n また、発熱（37.5℃以上）、咳の症状があるなど体調がすぐれない方は参加をお控え頂きますようお願い申し上げます。\n会場準備の関係上、６月１４日(火)までに出欠のご回答をお願いいたします。 \n※お問い合わせは、同友会事務局（担当：北村）まで。電話0155-22-3611 \nPDFはこちら \n第３回十勝農商工連携部会 幹事会
URL:https://tokachi-obihiro.doyu.jp/event/event19879/
LOCATION:北海道帯広市東2条南5丁目1-1\, Japan
CATEGORIES:行事予定告知
ATTACH;FMTTYPE=image/jpeg:https://tokachi-obihiro.doyu.jp/wp/wp-content/uploads/2017/12/thum_logo1.jpg
ORGANIZER;CN="%E5%8C%97%E6%B5%B7%E9%81%93%E4%B8%AD%E5%B0%8F%E4%BC%81%E6%A5%AD%E5%AE%B6%E5%90%8C%E5%8F%8B%E4%BC%9A%E3%81%A8%E3%81%8B%E3%81%A1%E6%94%AF%E9%83%A8":MAILTO:tokachi@hokkaido.doyu.jp
END:VEVENT
END:VCALENDAR