BEGIN:VCALENDAR
VERSION:2.0
PRODID:-//北海道中小企業家同友会とかち支部 - ECPv4.6.8//NONSGML v1.0//EN
CALSCALE:GREGORIAN
METHOD:PUBLISH
X-WR-CALNAME:北海道中小企業家同友会とかち支部
X-ORIGINAL-URL:https://tokachi-obihiro.doyu.jp
X-WR-CALDESC:Events for 北海道中小企業家同友会とかち支部
BEGIN:VEVENT
DTSTART;TZID=Asia/Tokyo:20220602T123300
DTEND;TZID=Asia/Tokyo:20220602T163000
DTSTAMP:20260420T154238
CREATED:20220524T004001Z
LAST-MODIFIED:20220714T083550Z
UID:19730-1654173180-1654187400@tokachi-obihiro.doyu.jp
SUMMARY:ゴルフ同好会第２回例会
DESCRIPTION:【第２回例会】　～（株）ほっかいどう　杯～ \n　と　き：６月２日（木） 　１２：３３スタート\n　会　場：十勝ＣＣ\n　参加費：２，０００円（景品代） \n　　※30分前までに集合してください\n　　※回答期日　５月２７日 \n–次回開催予定–\n【第３回例会】\n　日時：７月５日（火）　９：３０スタート\n　会場：嵐山ＣＣ \nPDFはこちら \nゴルフ同好会第２回例会
URL:https://tokachi-obihiro.doyu.jp/event/event19730/
LOCATION:河東郡音更町字下士幌51番地\, 北海道\, Japan
CATEGORIES:行事予定告知
ATTACH;FMTTYPE=image/jpeg:https://tokachi-obihiro.doyu.jp/wp/wp-content/uploads/2017/12/thum_logo1.jpg
ORGANIZER;CN="%E5%8C%97%E6%B5%B7%E9%81%93%E4%B8%AD%E5%B0%8F%E4%BC%81%E6%A5%AD%E5%AE%B6%E5%90%8C%E5%8F%8B%E4%BC%9A%E3%81%A8%E3%81%8B%E3%81%A1%E6%94%AF%E9%83%A8":MAILTO:tokachi@hokkaido.doyu.jp
END:VEVENT
END:VCALENDAR