BEGIN:VCALENDAR
VERSION:2.0
PRODID:-//北海道中小企業家同友会とかち支部 - ECPv4.6.8//NONSGML v1.0//EN
CALSCALE:GREGORIAN
METHOD:PUBLISH
X-WR-CALNAME:北海道中小企業家同友会とかち支部
X-ORIGINAL-URL:https://tokachi-obihiro.doyu.jp
X-WR-CALDESC:Events for 北海道中小企業家同友会とかち支部
BEGIN:VEVENT
DTSTART;TZID=Asia/Tokyo:20220603T190000
DTEND;TZID=Asia/Tokyo:20220603T210000
DTSTAMP:20260420T170225
CREATED:20220422T074213Z
LAST-MODIFIED:20220422T074213Z
UID:19381-1654282800-1654290000@tokachi-obihiro.doyu.jp
SUMMARY:第2回経営指針委員会
DESCRIPTION:■日時：6月3日（金）19：00～21：00 \n■会場：とかち豚丼　夢の蔵（帯広市西23条北1丁目5-5）\n　　　　またはZoom参加 \n■議題\n　・第2講を振り返って\n　・一泊研修会の開催について\n　・経営指針委員会の目的について \n第2回経営指針委員会
URL:https://tokachi-obihiro.doyu.jp/event/event19381/
LOCATION:日本、〒080-2463 北海道帯広市西２３条北１丁目５−５\, Japan
CATEGORIES:行事予定告知
ATTACH;FMTTYPE=image/jpeg:https://tokachi-obihiro.doyu.jp/wp/wp-content/uploads/2017/12/thum_logo1.jpg
ORGANIZER;CN="%E5%8C%97%E6%B5%B7%E9%81%93%E4%B8%AD%E5%B0%8F%E4%BC%81%E6%A5%AD%E5%AE%B6%E5%90%8C%E5%8F%8B%E4%BC%9A%E3%81%A8%E3%81%8B%E3%81%A1%E6%94%AF%E9%83%A8":MAILTO:tokachi@hokkaido.doyu.jp
END:VEVENT
END:VCALENDAR