BEGIN:VCALENDAR
VERSION:2.0
PRODID:-//北海道中小企業家同友会とかち支部 - ECPv4.6.8//NONSGML v1.0//EN
CALSCALE:GREGORIAN
METHOD:PUBLISH
X-WR-CALNAME:北海道中小企業家同友会とかち支部
X-ORIGINAL-URL:https://tokachi-obihiro.doyu.jp
X-WR-CALDESC:Events for 北海道中小企業家同友会とかち支部
BEGIN:VEVENT
DTSTART;TZID=Asia/Tokyo:20220204T180000
DTEND;TZID=Asia/Tokyo:20220204T200000
DTSTAMP:20260425T104939
CREATED:20220120T022849Z
LAST-MODIFIED:20220203T042619Z
UID:18564-1643997600-1644004800@tokachi-obihiro.doyu.jp
SUMMARY:第７回十勝地サイダー研究会
DESCRIPTION:下記の通り十勝地サイダー研究会を開催いたします。\n何かとご多用とは存じますが、是非ともご予定ください。\n何卒よろしくお願いいたします。 \n日 時：２月４日（金） １８：００～２０：００ \n会 場：同友会事務所(帯広市東2条南5丁目1)\nまたはＺＯＯＭでの参加（ＩＤ・パスワードは後日送付） \n◆目　　　的\n この会は地サイダーを通じて十勝の産業を発信し、地域の活性化を図ることを目的として、活動いたします。\n◆活動内容\n(1)実践報告から学ぶ勉強会・視察等、地サイダー開発に向けた活動\n(2)販路開拓・マーケティングリサーチ等、開発した地サイダーを外部に向けて広めるための活動\n(3)その他、同友会理念に基づき本会の目的に資する活動 \n★会場準備の関係上、２月３日(木) までに出欠のご回答をお願いいたします。\n※お問い合わせは同友会事務局（担当：北村）まで \nPDFはこちら \n第７回十勝地サイダー研究会
URL:https://tokachi-obihiro.doyu.jp/event/event18564/
LOCATION:北海道帯広市東2条南5丁目1-1\, Japan
CATEGORIES:行事予定告知
ATTACH;FMTTYPE=image/jpeg:https://tokachi-obihiro.doyu.jp/wp/wp-content/uploads/2017/12/thum_logo1.jpg
ORGANIZER;CN="%E5%8C%97%E6%B5%B7%E9%81%93%E4%B8%AD%E5%B0%8F%E4%BC%81%E6%A5%AD%E5%AE%B6%E5%90%8C%E5%8F%8B%E4%BC%9A%E3%81%A8%E3%81%8B%E3%81%A1%E6%94%AF%E9%83%A8":MAILTO:tokachi@hokkaido.doyu.jp
END:VEVENT
END:VCALENDAR