BEGIN:VCALENDAR
VERSION:2.0
PRODID:-//北海道中小企業家同友会とかち支部 - ECPv4.6.8//NONSGML v1.0//EN
CALSCALE:GREGORIAN
METHOD:PUBLISH
X-WR-CALNAME:北海道中小企業家同友会とかち支部
X-ORIGINAL-URL:https://tokachi-obihiro.doyu.jp
X-WR-CALDESC:Events for 北海道中小企業家同友会とかち支部
BEGIN:VEVENT
DTSTART;TZID=Asia/Tokyo:20210324T190000
DTEND;TZID=Asia/Tokyo:20210324T210000
DTSTAMP:20260420T154258
CREATED:20210310T012016Z
LAST-MODIFIED:20210310T012016Z
UID:12605-1616612400-1616619600@tokachi-obihiro.doyu.jp
SUMMARY:青年経営者の会 第11回例会
DESCRIPTION:2020年度まとめ例会＆卒業する皆さんからのメッセージ \n日　時：3月24日（水）19：00～21：00 \n会　場：とかちプラザ視聴覚室（帯広市西4条南13丁目1） \n参加費：無料 \n・今回は会場開催です。Zoomの併設はございません。 \n・青年経営者の会「コロナ感染拡大防止策」を確認の上ご参加下さい。 \n　例会参加基準に該当する場合でも状況によっては参加可能ですので、事務局もしくは近藤代表までお気軽にご相談ください。 \n青年経営者の会 第11回例会
URL:https://tokachi-obihiro.doyu.jp/event/event12605/
LOCATION:帯広市西4条南13丁目1\, 帯広市\, 北海道\, Japan
CATEGORIES:行事予定告知
ATTACH;FMTTYPE=image/jpeg:https://tokachi-obihiro.doyu.jp/wp/wp-content/uploads/2017/12/thum_logo1.jpg
END:VEVENT
END:VCALENDAR