BEGIN:VCALENDAR
VERSION:2.0
PRODID:-//北海道中小企業家同友会とかち支部 - ECPv4.6.8//NONSGML v1.0//EN
CALSCALE:GREGORIAN
METHOD:PUBLISH
X-WR-CALNAME:北海道中小企業家同友会とかち支部
X-ORIGINAL-URL:https://tokachi-obihiro.doyu.jp
X-WR-CALDESC:Events for 北海道中小企業家同友会とかち支部
BEGIN:VEVENT
DTSTART;TZID=Asia/Tokyo:20210318T124500
DTEND;TZID=Asia/Tokyo:20210318T140000
DTSTAMP:20260420T124442
CREATED:20210308T091303Z
LAST-MODIFIED:20210308T091303Z
UID:12598-1616071500-1616076000@tokachi-obihiro.doyu.jp
SUMMARY:環境部会第１２回世話人会
DESCRIPTION:日　時：３月１８日（木） １２：４５～１４：００ \n会　場：同友会事務所（帯広市東２条南５丁目１）またはＺＯＯＭでの参加 \n会　費：無料　※食事のご用意はございません \n■議　題 \n①３月例会振り返り \n②次年度の活動について \n③その他 \n環境部会第１２回世話人会
URL:https://tokachi-obihiro.doyu.jp/event/event12598/
LOCATION:北海道帯広市東2条南5丁目1-1\, Japan
CATEGORIES:行事予定告知
ATTACH;FMTTYPE=image/jpeg:https://tokachi-obihiro.doyu.jp/wp/wp-content/uploads/2017/12/thum_logo1.jpg
END:VEVENT
END:VCALENDAR