BEGIN:VCALENDAR
VERSION:2.0
PRODID:-//北海道中小企業家同友会とかち支部 - ECPv4.6.8//NONSGML v1.0//EN
CALSCALE:GREGORIAN
METHOD:PUBLISH
X-WR-CALNAME:北海道中小企業家同友会とかち支部
X-ORIGINAL-URL:https://tokachi-obihiro.doyu.jp
X-WR-CALDESC:Events for 北海道中小企業家同友会とかち支部
BEGIN:VEVENT
DTSTART;TZID=Asia/Tokyo:20210311T190000
DTEND;TZID=Asia/Tokyo:20210311T210000
DTSTAMP:20260420T143019
CREATED:20210302T044145Z
LAST-MODIFIED:20210304T062902Z
UID:12503-1615489200-1615496400@tokachi-obihiro.doyu.jp
SUMMARY:拓の会第４グループ３月例会（とかち支部３月例会）
DESCRIPTION:日　時：３月１１日（木）　１９時～２１時 \nテーマ：『とかち支部３月例会に参加しよう ～障がい者雇用のはじめの一歩』 \n【とかち支部３月例会詳細】 \n■テーマ：障がい者雇用のはじめの一歩　～何から始めればいいのか、中小企業が知っておくべきこと～ \n■報告者：独立行政法人　高齢・障害・求職者雇用支援機構 \n北海道支部　北海道障害者職業センター　障害者職業カウンセラー　宇枝　祐樹　氏 \n━━━━━━━━━━━━━━━━━━━━━━━━━━ \n■日　時：3月11日（木）19：00～21：00 \n■会　場：とかち館（帯広市西7条南6丁目2）またはZoom参加 \n■会　費：無料 \n━━━━━━━━━━━━━━━━━━━━━━━━━━ \nPDFはこちら \n  \n拓の会第４グループ３月例会（とかち支部３月例会）
URL:https://tokachi-obihiro.doyu.jp/event/event12503/
LOCATION:北海道帯広市西7条6丁目2\, 080-0017\, Japan
CATEGORIES:行事予定告知
ATTACH;FMTTYPE=image/jpeg:https://tokachi-obihiro.doyu.jp/wp/wp-content/uploads/2017/12/thum_logo1.jpg
END:VEVENT
END:VCALENDAR