BEGIN:VCALENDAR
VERSION:2.0
PRODID:-//北海道中小企業家同友会とかち支部 - ECPv4.6.8//NONSGML v1.0//EN
CALSCALE:GREGORIAN
METHOD:PUBLISH
X-WR-CALNAME:北海道中小企業家同友会とかち支部
X-ORIGINAL-URL:https://tokachi-obihiro.doyu.jp
X-WR-CALDESC:Events for 北海道中小企業家同友会とかち支部
BEGIN:VEVENT
DTSTART;TZID=Asia/Tokyo:20210224T140000
DTEND;TZID=Asia/Tokyo:20210224T153000
DTSTAMP:20260421T130706
CREATED:20210217T060924Z
LAST-MODIFIED:20210217T060924Z
UID:12404-1614175200-1614180600@tokachi-obihiro.doyu.jp
SUMMARY:第5回広報委員会
DESCRIPTION:■日時：2月24日（水）14：00~15：30.\n■会場：かふぇ坩堝　（帯広市西16条南36丁目1-20）\n■議題：①広報委員会活動方針　②同友会の魅力を語る懇談会の最終校正 \n第5回広報委員会
URL:https://tokachi-obihiro.doyu.jp/event/event12404/
LOCATION:帯広市西16条南36丁目1-20\, 北海道\, Japan
CATEGORIES:行事予定告知
ATTACH;FMTTYPE=image/jpeg:https://tokachi-obihiro.doyu.jp/wp/wp-content/uploads/2017/12/thum_logo1.jpg
END:VEVENT
END:VCALENDAR