BEGIN:VCALENDAR
VERSION:2.0
PRODID:-//北海道中小企業家同友会とかち支部 - ECPv4.6.8//NONSGML v1.0//EN
CALSCALE:GREGORIAN
METHOD:PUBLISH
X-WR-CALNAME:北海道中小企業家同友会とかち支部
X-ORIGINAL-URL:https://tokachi-obihiro.doyu.jp
X-WR-CALDESC:Events for 北海道中小企業家同友会とかち支部
BEGIN:VEVENT
DTSTART;TZID=Asia/Tokyo:20210302T190000
DTEND;TZID=Asia/Tokyo:20210302T210000
DTSTAMP:20260421T085229
CREATED:20210210T043325Z
LAST-MODIFIED:20210210T043325Z
UID:12340-1614711600-1614718800@tokachi-obihiro.doyu.jp
SUMMARY:農業経営部会3月例会(農業新技術グループ)
DESCRIPTION:日　時：３月２日(火)１９：００～２１:００ \n会　場：同友会事務所（帯広市東2条南5丁目1）or Zoom \n参加費：無　料 \nテーマ：あなたにぴったりのスマート農業で経費削減＆売上向上！ \n≪登壇者≫\n㈱イソップアグリシステム\n[北見市]　精密農業技術全般と国内未発表の最新機械\n取締役部長　馬渡　智昭　氏 \n㈱国際航業\n[東京都]　収量・品質の向上を目指す地域や個人の営農体系へ活かすﾃﾞｰﾀ連携戦略\nLBSセンシング事業部RSソリューション部　営農グループ長　鎌形　哲稔　氏 \n㈱ズコーシャ\n[帯広市]　より効率的な可変施肥に向けて～可変施肥が有効な畑を簡易に判別～\n総合科学研究所　所長　丹羽　勝久　氏 \nスペースアグリ㈱\n[帯広市]　衛星リモセンデータを活用し、20円/10a/年で生育マップ、 200円/10a/年で簡単に施肥マップを作れるツールを提供\n代表取締役　　瀬下　隆　氏 \nPDFはこちら \n農業経営部会3月例会(農業新技術グループ)
URL:https://tokachi-obihiro.doyu.jp/event/event12340/
LOCATION:北海道帯広市東2条南5丁目1-1\, Japan
CATEGORIES:行事予定告知
ATTACH;FMTTYPE=image/jpeg:https://tokachi-obihiro.doyu.jp/wp/wp-content/uploads/2017/12/thum_logo1.jpg
END:VEVENT
END:VCALENDAR