BEGIN:VCALENDAR
VERSION:2.0
PRODID:-//北海道中小企業家同友会とかち支部 - ECPv4.6.8//NONSGML v1.0//EN
CALSCALE:GREGORIAN
METHOD:PUBLISH
X-WR-CALNAME:北海道中小企業家同友会とかち支部
X-ORIGINAL-URL:https://tokachi-obihiro.doyu.jp
X-WR-CALDESC:Events for 北海道中小企業家同友会とかち支部
BEGIN:VEVENT
DTSTART;TZID=Asia/Tokyo:20210219T190000
DTEND;TZID=Asia/Tokyo:20210219T210000
DTSTAMP:20260422T084547
CREATED:20210208T070755Z
LAST-MODIFIED:20210208T070755Z
UID:12315-1613761200-1613768400@tokachi-obihiro.doyu.jp
SUMMARY:青年経営者の会第10回例会
DESCRIPTION:テーマ：青年経営者の会で得たモノ？歴代代表全集中！大炎上トーク祭り！！？ \n＜パネリスト＞ \n大成ベルト工販(株)　代表取締役　　　　岸　龍吉　氏（2013～2014代表） \n(有)マミィ　　　　　代表取締役　　　南出　雅樹　氏（2016～2017代表） \n東洋(株)　　　　　　代表取締役社長　　角　髙紀　氏（2017～2018代表） \n(株)池田塗装工事　　代表取締役　　　池田　欣央　氏（2018～2020代表） \n(株)近藤商会　　　　常務取締役　　　近藤　真治　氏（2020～代表） \n  \n日　時：2月19日（金）19：00～21：00 \n会　場：同友会事務所（帯広市東2条南5丁目1）またはZoom参加 \n参加費：無料 \n【注意事項】 \n・会場定員は15名（先着順）です。15名を超えた場合は、世話人が中心となり会場参加人数の調整を行う予定です。 \n・コロナ感染拡大防止策を確認の上ご参加下さい。例会参加基準に該当する場合でも状況によっては参加可能ですので、事務局または近藤代表までお気軽にご相談ください。 \nPDFはこちら \n青年経営者の会第10回例会
URL:https://tokachi-obihiro.doyu.jp/event/event12315/
LOCATION:北海道帯広市東2条南5丁目1-1\, Japan
CATEGORIES:行事予定告知
ATTACH;FMTTYPE=image/jpeg:https://tokachi-obihiro.doyu.jp/wp/wp-content/uploads/2017/12/thum_logo1.jpg
END:VEVENT
END:VCALENDAR