BEGIN:VCALENDAR
VERSION:2.0
PRODID:-//北海道中小企業家同友会とかち支部 - ECPv4.6.8//NONSGML v1.0//EN
CALSCALE:GREGORIAN
METHOD:PUBLISH
X-WR-CALNAME:北海道中小企業家同友会とかち支部
X-ORIGINAL-URL:https://tokachi-obihiro.doyu.jp
X-WR-CALDESC:Events for 北海道中小企業家同友会とかち支部
BEGIN:VEVENT
DTSTART;TZID=Asia/Tokyo:20210210T190000
DTEND;TZID=Asia/Tokyo:20210210T210000
DTSTAMP:20260424T133359
CREATED:20210122T022932Z
LAST-MODIFIED:20210122T022932Z
UID:12153-1612983600-1612990800@tokachi-obihiro.doyu.jp
SUMMARY:本別地区会2月例会
DESCRIPTION:■日　時：２月１０日（水）　１９：００～２１：００\n■会　場：本別町中央公民館　１階　第１会議室（本別町北1丁目4番地27　電話：0156-22-5111）\n■会　費：無料（お食事のご用意はありません）\n■テーマ：新年度の地区会活動計画と地区会交流会～２０２１年度の活動や3月の地区会交流会に向けて打ち合わせる大事な例会です。ぜひご予定下さい！！～ \nPDFはこちら \n本別地区会2月例会
URL:https://tokachi-obihiro.doyu.jp/event/event12153/
LOCATION:本別町北1丁目4番地27\, 中川郡\, 北海道\, Japan
CATEGORIES:行事予定告知
ATTACH;FMTTYPE=image/jpeg:https://tokachi-obihiro.doyu.jp/wp/wp-content/uploads/2017/12/thum_logo1.jpg
END:VEVENT
END:VCALENDAR