BEGIN:VCALENDAR
VERSION:2.0
PRODID:-//北海道中小企業家同友会とかち支部 - ECPv4.6.8//NONSGML v1.0//EN
CALSCALE:GREGORIAN
METHOD:PUBLISH
X-WR-CALNAME:北海道中小企業家同友会とかち支部
X-ORIGINAL-URL:https://tokachi-obihiro.doyu.jp
X-WR-CALDESC:Events for 北海道中小企業家同友会とかち支部
BEGIN:VEVENT
DTSTART;TZID=Asia/Tokyo:20210204T190000
DTEND;TZID=Asia/Tokyo:20210204T210000
DTSTAMP:20260424T150102
CREATED:20210113T034211Z
LAST-MODIFIED:20210113T034211Z
UID:12037-1612465200-1612472400@tokachi-obihiro.doyu.jp
SUMMARY:第5回学び合い活動推進委員会・拓の会正副Ｇ長会議
DESCRIPTION:日　時：２月４日（木）１９：００～２１：００ \n会　場：同友会とかち事務所 (帯広市東２条南５丁目１)またはZOOM参加 \n第5回学び合い活動推進委員会・拓の会正副Ｇ長会議
URL:https://tokachi-obihiro.doyu.jp/event/event12037/
LOCATION:北海道帯広市東2条南5丁目1-1\, Japan
CATEGORIES:行事予定告知
ATTACH;FMTTYPE=image/jpeg:https://tokachi-obihiro.doyu.jp/wp/wp-content/uploads/2017/12/thum_logo1.jpg
END:VEVENT
END:VCALENDAR