BEGIN:VCALENDAR
VERSION:2.0
PRODID:-//北海道中小企業家同友会とかち支部 - ECPv4.6.8//NONSGML v1.0//EN
CALSCALE:GREGORIAN
METHOD:PUBLISH
X-WR-CALNAME:北海道中小企業家同友会とかち支部
X-ORIGINAL-URL:https://tokachi-obihiro.doyu.jp
X-WR-CALDESC:Events for 北海道中小企業家同友会とかち支部
BEGIN:VEVENT
DTSTART;TZID=Asia/Tokyo:20210202T133000
DTEND;TZID=Asia/Tokyo:20210202T163000
DTSTAMP:20260422T144510
CREATED:20210106T065114Z
LAST-MODIFIED:20210106T065114Z
UID:11979-1612272600-1612283400@tokachi-obihiro.doyu.jp
SUMMARY:第２期十勝経営者大学 北海道論コース 第2講
DESCRIPTION:■ 受講対象：経営者、社員\n■ 受 講 料：フルコース ５０\,０００円　スポット １０\,０００円\n■ 日　　時：２月２日(火)１３：３０～１６：３０（３時間）\n■ テ ー マ：千島海溝の超巨大地震津波対策の現状と課題\n■ 講　　師：北海道大学　教授　高橋　浩晃　氏\n■ 会　　場： 同友会会議室orZoom（帯広市東2南5丁目1番地　電話：0155-22-3611） \nPDFはこちら \n第２期十勝経営者大学 北海道論コース 第2講
URL:https://tokachi-obihiro.doyu.jp/event/event11979/
CATEGORIES:行事予定告知
ATTACH;FMTTYPE=image/jpeg:https://tokachi-obihiro.doyu.jp/wp/wp-content/uploads/2017/12/thum_logo1.jpg
END:VEVENT
END:VCALENDAR