BEGIN:VCALENDAR
VERSION:2.0
PRODID:-//北海道中小企業家同友会とかち支部 - ECPv4.6.8//NONSGML v1.0//EN
CALSCALE:GREGORIAN
METHOD:PUBLISH
X-WR-CALNAME:北海道中小企業家同友会とかち支部
X-ORIGINAL-URL:https://tokachi-obihiro.doyu.jp
X-WR-CALDESC:Events for 北海道中小企業家同友会とかち支部
BEGIN:VEVENT
DTSTART;TZID=Asia/Tokyo:20210330T100000
DTEND;TZID=Asia/Tokyo:20210330T120000
DTSTAMP:20260422T113720
CREATED:20210106T062515Z
LAST-MODIFIED:20210106T062515Z
UID:11970-1617098400-1617105600@tokachi-obihiro.doyu.jp
SUMMARY:2021年合同入社式
DESCRIPTION:◆日　時：２０２１年 ３月３０日(火) １０：００～１２：００ \n◆会　場：とかちプラザ レインボーホール（帯広市西4条南13丁目1） \n※参加定員150名（先着順）　会場となるレインボーホールの収容定員は350名です。会場収容率の半分以下として、社会的距離や換気に配慮して設営いたします。 \n◆参加費：１\,０００円（新入社員お一人・会場費等として） \n※3月25日㈭以降のキャンセルは参加費を申し受けます。 \n【タイムスケジュール】 \n◎歓迎の挨拶　とかち支部　支部長　高原　淳 \n◎新入社員紹介（一人ずつお名前を読み上げます） \n◎新入社員代表挨拶 \n◎記念講演　㈱ホーム創建　代表取締役　阿部　利典　氏 \n　　　　　　〈テーマ〉「なぜ働くのか・いかに働くのか」 \n※新型コロナウイルスの感染拡大が見通せない状態です。感染拡大の状況によってZOOMによるオンライン開催など開催方法の変更の可能性もございます。随時ご連絡いたしますが、予めご了承ください。 \n※会場に集まっての参加に不安がある企業は事務局までご相談ください。 \n※新社員研修会については別途ご案内いたします。 \n  \nPDFはこちら \n2021年合同入社式
URL:https://tokachi-obihiro.doyu.jp/event/event11970/
LOCATION:帯広市西4条南13丁目1\, 北海道\, Japan
CATEGORIES:行事予定告知
ATTACH;FMTTYPE=image/jpeg:https://tokachi-obihiro.doyu.jp/wp/wp-content/uploads/2017/12/thum_logo1.jpg
END:VEVENT
END:VCALENDAR