BEGIN:VCALENDAR
VERSION:2.0
PRODID:-//北海道中小企業家同友会とかち支部 - ECPv4.6.8//NONSGML v1.0//EN
CALSCALE:GREGORIAN
METHOD:PUBLISH
X-WR-CALNAME:北海道中小企業家同友会とかち支部
X-ORIGINAL-URL:https://tokachi-obihiro.doyu.jp
X-WR-CALDESC:Events for 北海道中小企業家同友会とかち支部
BEGIN:VEVENT
DTSTART;TZID=Asia/Tokyo:20210115T190000
DTEND;TZID=Asia/Tokyo:20210115T210000
DTSTAMP:20260425T003049
CREATED:20201224T003542Z
LAST-MODIFIED:20201224T004223Z
UID:11919-1610737200-1610744400@tokachi-obihiro.doyu.jp
SUMMARY:環境部会１月例会（オンライン読書会）
DESCRIPTION:1月例会は読書会を行います。「ユヴァル・ノア・ハラリの緊急提言パンデミック」の中の「タイム」誌への寄稿を読み、新型コロナウイルスへの対応について学び考えます。ぜひ奮ってご参加下さい。 \n日　時：１月１５日（金）　１９：００～２１：００ \n会　場：ＺＯＯＭでの参加（ＩＤ・パスワードは後日お送りいたします） \nまたは同友会事務所（帯広市東2条南5丁目1） \n参加費：無料 \nテーマ：新型コロナウイルスへの対応について学ぶ \n～「ユヴァル・ノア・ハラリの緊急提言パンデミック」の中の「タイム」誌への寄稿を読み考える～ \n課題図書：「ユヴァル・ノア・ハラリの緊急提言パンデミック」の中の「タイム」誌への寄稿 \n※Webでの閲覧も可能です。以下からご覧ください。 \nhttp://web.kawade.co.jp/bungei/3455/ \n  \nPDFはこちら \n環境部会１月例会（オンライン読書会）
URL:https://tokachi-obihiro.doyu.jp/event/event11919/
LOCATION:北海道帯広市東2条南5丁目1-1\, Japan
CATEGORIES:行事予定告知
ATTACH;FMTTYPE=image/jpeg:https://tokachi-obihiro.doyu.jp/wp/wp-content/uploads/2017/12/thum_logo1.jpg
END:VEVENT
END:VCALENDAR