BEGIN:VCALENDAR
VERSION:2.0
PRODID:-//北海道中小企業家同友会とかち支部 - ECPv4.6.8//NONSGML v1.0//EN
CALSCALE:GREGORIAN
METHOD:PUBLISH
X-WR-CALNAME:北海道中小企業家同友会とかち支部
X-ORIGINAL-URL:https://tokachi-obihiro.doyu.jp
X-WR-CALDESC:Events for 北海道中小企業家同友会とかち支部
BEGIN:VEVENT
DTSTART;TZID=Asia/Tokyo:20210121T190000
DTEND;TZID=Asia/Tokyo:20210121T220000
DTSTAMP:20260425T025546
CREATED:20201223T082024Z
LAST-MODIFIED:20201223T082024Z
UID:11916-1611255600-1611266400@tokachi-obihiro.doyu.jp
SUMMARY:経営指針研究会Aグループ第12講
DESCRIPTION:日　時：1月21日（木）19：00～22：00 \n会　場：夢の蔵（帯広市西23条北1丁目5-5）またはZoom参加 \n【課題】①中期経営計画　②単年度経営計画 \n【発表】全員 \n経営指針研究会Aグループ第12講
URL:https://tokachi-obihiro.doyu.jp/event/event11916/
LOCATION:日本、〒080-2463 北海道帯広市西２３条北１丁目５−５\, Japan
CATEGORIES:行事予定告知
ATTACH;FMTTYPE=image/jpeg:https://tokachi-obihiro.doyu.jp/wp/wp-content/uploads/2017/12/thum_logo1.jpg
END:VEVENT
END:VCALENDAR