BEGIN:VCALENDAR
VERSION:2.0
PRODID:-//北海道中小企業家同友会とかち支部 - ECPv4.6.8//NONSGML v1.0//EN
CALSCALE:GREGORIAN
METHOD:PUBLISH
X-WR-CALNAME:北海道中小企業家同友会とかち支部
X-ORIGINAL-URL:https://tokachi-obihiro.doyu.jp
X-WR-CALDESC:Events for 北海道中小企業家同友会とかち支部
BEGIN:VEVENT
DTSTART;TZID=Asia/Tokyo:20210115T150000
DTEND;TZID=Asia/Tokyo:20210115T200000
DTSTAMP:20260424T231112
CREATED:20201223T060656Z
LAST-MODIFIED:20201223T060656Z
UID:11908-1610722800-1610740800@tokachi-obihiro.doyu.jp
SUMMARY:十勝農商工連携部会１月例会（新年会）
DESCRIPTION:日　時：１月１５日(金)１５:００-２０:００ \n会　場：めむろ新嵐山荘（芽室町中美生2線42\, 電話0155-65-2121） \n参加費：6\,000円　（ご飲食代として） \n※定員30名（先着順） \n※1/13以降のキャンセルは会費を申し受けますことをご了承ください。 \n※領収書はお店から発行。 \n◆タイムテーブル \n【第１部　報告会】15:00～16:00 \n〈報告者〉芽室町長　手島　旭　氏 \n〈テーマ〉新嵐山活用計画のビジョンについて \n【第２部　めむろワイナリー視察】16:00～17:00 \n〈報告者〉めむろワイナリー㈱　代表取締役　尾藤　光一 氏 \n〈テーマ〉めむろワイナリーが考える未来創造とは？ \n【第３部　食事会】18:00～20:00 \n◆部会幹事の皆様へ：14時30分より幹事会を行います。会場へお集まり下さい。 \nPDFはこちら \n十勝農商工連携部会１月例会（新年会）
URL:https://tokachi-obihiro.doyu.jp/event/event11908/
LOCATION:河西郡芽室町中美生2線42\, Japan
CATEGORIES:行事予定告知
ATTACH;FMTTYPE=image/jpeg:https://tokachi-obihiro.doyu.jp/wp/wp-content/uploads/2017/12/thum_logo1.jpg
END:VEVENT
END:VCALENDAR