BEGIN:VCALENDAR
VERSION:2.0
PRODID:-//北海道中小企業家同友会とかち支部 - ECPv4.6.8//NONSGML v1.0//EN
CALSCALE:GREGORIAN
METHOD:PUBLISH
X-WR-CALNAME:北海道中小企業家同友会とかち支部
X-ORIGINAL-URL:https://tokachi-obihiro.doyu.jp
X-WR-CALDESC:Events for 北海道中小企業家同友会とかち支部
BEGIN:VEVENT
DTSTART;TZID=Asia/Tokyo:20210115T143000
DTEND;TZID=Asia/Tokyo:20210115T150000
DTSTAMP:20260424T214347
CREATED:20201223T060112Z
LAST-MODIFIED:20201223T060112Z
UID:11902-1610721000-1610722800@tokachi-obihiro.doyu.jp
SUMMARY:第９回十勝農商工連携部会幹事会
DESCRIPTION:日時：１月１５日(金) １４：３０～１５：００ \n会場：めむろ新嵐山荘 (芽室町中美生2線42\, 電話0155-65-2121) \n【議題】 \n１.各研究会活動について \n農村観光研/海外ﾋﾞｼﾞﾈｽ開拓研/小規模加工食品研/畜大パートナーズ/小麦研 \n２.今後の活動について \n３.その他 \n※幹事会終了後、部会１月例会・新年会を行います。 \nPDFはこちら \n第９回十勝農商工連携部会幹事会
URL:https://tokachi-obihiro.doyu.jp/event/event11902/
LOCATION:河西郡芽室町中美生2線42\, Japan
CATEGORIES:行事予定告知
ATTACH;FMTTYPE=image/jpeg:https://tokachi-obihiro.doyu.jp/wp/wp-content/uploads/2017/12/thum_logo1.jpg
END:VEVENT
END:VCALENDAR