BEGIN:VCALENDAR
VERSION:2.0
PRODID:-//北海道中小企業家同友会とかち支部 - ECPv4.6.8//NONSGML v1.0//EN
CALSCALE:GREGORIAN
METHOD:PUBLISH
X-WR-CALNAME:北海道中小企業家同友会とかち支部
X-ORIGINAL-URL:https://tokachi-obihiro.doyu.jp
X-WR-CALDESC:Events for 北海道中小企業家同友会とかち支部
BEGIN:VEVENT
DTSTART;TZID=Asia/Tokyo:20210114T171500
DTEND;TZID=Asia/Tokyo:20210114T200000
DTSTAMP:20260424T202219
CREATED:20201209T053453Z
LAST-MODIFIED:20210112T072139Z
UID:11759-1610644500-1610654400@tokachi-obihiro.doyu.jp
SUMMARY:とかち支部臨時総会・新春講演会
DESCRIPTION:【お願い】総会は過半数の出席（委任状含む）が成立要件です。ご欠席の場合でも必ず回答をお願いします。 \n今年も残りわずかとなりました。新型コロナウイルスの感染が拡大しています。2020年度新年交礼会は懇親会を開催せずに、新春講演会のみを開催することとなりました。\nまた、新年度体制を早期に立ち上げるために合わせて2021年度新役員の選出のための臨時総会を開催します。 \n【新春講演会】 \n※札幌からオンラインでの講演となります\n北海道日本ハムファイターズとボールパーク構想 \n(株)北海道日本ハムファイターズ　代表取締役社長　川村　浩二　氏 \n道民球団として発展を続けるファイターズ。\n今や北海道の顔となった球団はどこまで輝きを増すのか。\nボールパーク構想などを川村氏が大いに語ります。 \n■日　時：1月14日（木） \n17：15　臨時総会（2021年度新役員の選出）\n18：00　新春講演会\n20：00　閉会 \n■会　場：とかち館（帯広市西7条南6丁目2）またはZoom参加\n■会　費：無料 \n※会場は定員30名（先着順）とします。\n※Zoom参加の方にはミーティングIDとパスワードを後日お送りします。 \nPDFはこちら \n  \nとかち支部臨時総会・新春講演会
URL:https://tokachi-obihiro.doyu.jp/event/event11759/
LOCATION:西7条南6丁目2番地\, 帯広市\, 北海道\, 080-0017\, Japan
CATEGORIES:行事予定告知
ATTACH;FMTTYPE=image/jpeg:https://tokachi-obihiro.doyu.jp/wp/wp-content/uploads/2017/12/thum_logo1.jpg
END:VEVENT
END:VCALENDAR