BEGIN:VCALENDAR
VERSION:2.0
PRODID:-//北海道中小企業家同友会とかち支部 - ECPv4.6.8//NONSGML v1.0//EN
CALSCALE:GREGORIAN
METHOD:PUBLISH
X-WR-CALNAME:北海道中小企業家同友会とかち支部
X-ORIGINAL-URL:https://tokachi-obihiro.doyu.jp
X-WR-CALDESC:Events for 北海道中小企業家同友会とかち支部
BEGIN:VEVENT
DTSTART;TZID=Asia/Tokyo:20201222T190000
DTEND;TZID=Asia/Tokyo:20201222T220000
DTSTAMP:20260424T230451
CREATED:20201202T044714Z
LAST-MODIFIED:20201202T044714Z
UID:11723-1608663600-1608674400@tokachi-obihiro.doyu.jp
SUMMARY:経営指針研究会Bグループ第11講
DESCRIPTION:※現状では、夢の蔵で開催予定ですが、新型コロナの状況次第でZoomに切り替えます。 \n日　時：12月22日（火）19：00～22：00 \n会　場：とかち豚丼　夢の蔵（帯広市西23条北1丁目5-5） \n【課題】 \n①クロスSWOT分析 \n②経営方針検討シート \n③経営方針シート \n経営指針研究会Bグループ第11講
URL:https://tokachi-obihiro.doyu.jp/event/event11723/
LOCATION:日本、〒080-2463 北海道帯広市西２３条北１丁目５−５\, Japan
CATEGORIES:行事予定告知
ATTACH;FMTTYPE=image/jpeg:https://tokachi-obihiro.doyu.jp/wp/wp-content/uploads/2017/12/thum_logo1.jpg
END:VEVENT
END:VCALENDAR