BEGIN:VCALENDAR
VERSION:2.0
PRODID:-//北海道中小企業家同友会とかち支部 - ECPv4.6.8//NONSGML v1.0//EN
CALSCALE:GREGORIAN
METHOD:PUBLISH
X-WR-CALNAME:北海道中小企業家同友会とかち支部
X-ORIGINAL-URL:https://tokachi-obihiro.doyu.jp
X-WR-CALDESC:Events for 北海道中小企業家同友会とかち支部
BEGIN:VEVENT
DTSTART;TZID=Asia/Tokyo:20201119T190000
DTEND;TZID=Asia/Tokyo:20201119T210000
DTSTAMP:20260420T143917
CREATED:20201105T032916Z
LAST-MODIFIED:20201105T032916Z
UID:11392-1605812400-1605819600@tokachi-obihiro.doyu.jp
SUMMARY:本別地区会11月例会(拓の会合同)
DESCRIPTION:■日　時；１１月１９日（木）　１９：００～２１：００\n■会　場；本別町体育館　研修室（本別町北2丁目4番地2、TEL：0156-22-2331）\n■テーマ；『外国人雇用の現状について』\n■話題提供；(株)十勝井原牧場　代表取締役　井原　宏和 氏\n■会　費；無　料 \nPDFはこちら \n本別地区会11月例会(拓の会合同)
URL:https://tokachi-obihiro.doyu.jp/event/event11392/
LOCATION:本別町北2丁目4番地2\, 中川郡\, 北海道\, 089-0112\, Japan
CATEGORIES:行事予定告知
ATTACH;FMTTYPE=image/jpeg:https://tokachi-obihiro.doyu.jp/wp/wp-content/uploads/2017/12/thum_logo1.jpg
END:VEVENT
END:VCALENDAR