BEGIN:VCALENDAR
VERSION:2.0
PRODID:-//北海道中小企業家同友会とかち支部 - ECPv4.6.8//NONSGML v1.0//EN
CALSCALE:GREGORIAN
METHOD:PUBLISH
X-WR-CALNAME:北海道中小企業家同友会とかち支部
X-ORIGINAL-URL:https://tokachi-obihiro.doyu.jp
X-WR-CALDESC:Events for 北海道中小企業家同友会とかち支部
BEGIN:VEVENT
DTSTART;TZID=Asia/Tokyo:20201118T190000
DTEND;TZID=Asia/Tokyo:20201118T210000
DTSTAMP:20260420T185045
CREATED:20201102T034010Z
LAST-MODIFIED:20201102T034010Z
UID:11366-1605726000-1605733200@tokachi-obihiro.doyu.jp
SUMMARY:拓の会第１グループ・池田地区会合同１１月例会
DESCRIPTION:日　時：１１月１８日（水）　１９：００～２１：００ \n会　場：池田町西部地域コミュニティセンター（池田町字利別東町12-11　TEL：015-579-2138）またはＺＯＯＭでの参加 \nテーマ：『　 経営指針で描く自社のビジョンと存在意義　』 \n話題提供者：㈱共同電設　代表取締役  原田 健太　氏 \n※ZOOM参加希望の方は各自のＰＣ・スマホ・タブレットからご参加下さい。 \n拓の会第１グループ・池田地区会合同１１月例会
URL:https://tokachi-obihiro.doyu.jp/event/event11366/
LOCATION:池田町字利別東町12-11\, 中川郡\, 北海道\, Japan
CATEGORIES:行事予定告知
ATTACH;FMTTYPE=image/jpeg:https://tokachi-obihiro.doyu.jp/wp/wp-content/uploads/2017/12/thum_logo1.jpg
END:VEVENT
END:VCALENDAR