BEGIN:VCALENDAR
VERSION:2.0
PRODID:-//北海道中小企業家同友会とかち支部 - ECPv4.6.8//NONSGML v1.0//EN
CALSCALE:GREGORIAN
METHOD:PUBLISH
X-WR-CALNAME:北海道中小企業家同友会とかち支部
X-ORIGINAL-URL:https://tokachi-obihiro.doyu.jp
X-WR-CALDESC:Events for 北海道中小企業家同友会とかち支部
BEGIN:VEVENT
DTSTART;TZID=Asia/Tokyo:20201106T160000
DTEND;TZID=Asia/Tokyo:20201106T170000
DTSTAMP:20260422T130530
CREATED:20201022T014316Z
LAST-MODIFIED:20201022T014316Z
UID:11256-1604678400-1604682000@tokachi-obihiro.doyu.jp
SUMMARY:第3回スタートアップ委員会
DESCRIPTION:■日時：11月6日（金）16：00～17：00\n■会場：同友会事務所（帯広市東2条南5丁目1）\n■議題：\n・第2回いろはの会　振り返り\n・第3回いろはの会　に向けて\n・その他 \n第3回スタートアップ委員会
URL:https://tokachi-obihiro.doyu.jp/event/event11256/
CATEGORIES:行事予定告知
ATTACH;FMTTYPE=image/jpeg:https://tokachi-obihiro.doyu.jp/wp/wp-content/uploads/2017/12/thum_logo1.jpg
END:VEVENT
END:VCALENDAR