BEGIN:VCALENDAR
VERSION:2.0
PRODID:-//北海道中小企業家同友会とかち支部 - ECPv4.6.8//NONSGML v1.0//EN
CALSCALE:GREGORIAN
METHOD:PUBLISH
X-WR-CALNAME:北海道中小企業家同友会とかち支部
X-ORIGINAL-URL:https://tokachi-obihiro.doyu.jp
X-WR-CALDESC:Events for 北海道中小企業家同友会とかち支部
BEGIN:VEVENT
DTSTART;TZID=Asia/Tokyo:20201113T130000
DTEND;TZID=Asia/Tokyo:20201113T150000
DTSTAMP:20260420T211739
CREATED:20201019T004930Z
LAST-MODIFIED:20201019T004930Z
UID:11191-1605272400-1605279600@tokachi-obihiro.doyu.jp
SUMMARY:環境部会１１月例会
DESCRIPTION:日　時：１１月１３日（金）　１３：００～１５：００ \n会　場：はぐくーむ（帯広市南町南9線49番地） \n参加費：１\,０００円（資料印刷費等として）※領収書は同友会より発行 \n内　容：座学（帯広の森の歴史・取組み等）、野外散策、間伐体験、ペレット工房見学　※雨天決行（一部内容を変更して開催いたします） \n持ち物：●軍手　●長ぐつ　●防寒着や動きやすい服装 \nテーマ：帯広の森・はぐくーむ視察訪問 \n報告者：はぐくーむ　施設長　日月(たちもり)　伸 氏 \nPDFはこちら \n環境部会１１月例会
URL:https://tokachi-obihiro.doyu.jp/event/event11191/
LOCATION:帯広市南町南9線49番地\, 北海道\, Japan
CATEGORIES:行事予定告知
ATTACH;FMTTYPE=image/jpeg:https://tokachi-obihiro.doyu.jp/wp/wp-content/uploads/2017/12/thum_logo1.jpg
END:VEVENT
END:VCALENDAR