BEGIN:VCALENDAR
VERSION:2.0
PRODID:-//北海道中小企業家同友会とかち支部 - ECPv4.6.8//NONSGML v1.0//EN
CALSCALE:GREGORIAN
METHOD:PUBLISH
X-WR-CALNAME:北海道中小企業家同友会とかち支部
X-ORIGINAL-URL:https://tokachi-obihiro.doyu.jp
X-WR-CALDESC:Events for 北海道中小企業家同友会とかち支部
BEGIN:VEVENT
DTSTART;TZID=Asia/Tokyo:20201028T190000
DTEND;TZID=Asia/Tokyo:20201028T210000
DTSTAMP:20260422T144341
CREATED:20200929T034441Z
LAST-MODIFIED:20200929T034441Z
UID:10969-1603911600-1603918800@tokachi-obihiro.doyu.jp
SUMMARY:とかち支部１０月例会
DESCRIPTION:私はなぜ同友会活動に熱中したのか？同友会と歩んだ18年 \n報告者：サンマルコ食品(株)　代表取締役社長　藤井幸一氏（北海道同友会代表理事） \nサンマルコ食品は、札幌に本社を置くコロッケ・春巻き・グラタン・いももちなどの冷凍食品メーカー。新型コロナの影響で売上が25％落ち込む中、藤井社長は「自分の会社の危機は人のせいにできない。危機の時こそ自社の弱点が見えてくる。」と、来年3月までの経営計画を立て直しました。「このように考えることができたのは同友会のおかげ」と語る藤井氏は、2002年に同友会へ入会し、現在、北海道同友会の代表理事を務めています。同友会での学びを自社にどのように落とし込み、活かしてきたのか。その歩みを伺います。 \n■日　時：１０月２８日(水) １９:００～２１:００ \n■会　場：とかち館　または　Zoom参加 \n■会　費：無料 \n※新型コロナウイルス感染症対策として、会場は収容率50％以下とし、定員60名（先着順）とさせて頂きます。 \n※受付の混雑を避けるため、時間に余裕をもってお越し下さい。 \n  \n━━━★オンライン参加方法★━━━━━━━━━━━━━━━ \nグループ討論があります。オンライン参加の皆様はご返信と同時に必ず下記URLから【事前登録】をお願いします。 \nhttps://is.gd/7LsBbJ \n①「Zoom」で行います。アカウントが無くても参加可能です。 \n②事前登録が済み次第、ご登録のアドレスへURLとパスワードが送られます。 \n③今回はZoom上でグループ討論があります。 \n・カメラとマイク機能が必要です。 \n・環境が整わない方は会場参加へのお申込みをお願いします。 \n・複数人でご参加の場合、1人1台機材のご用意をお願いします。 \nPDFはこちら \n  \nとかち支部１０月例会
URL:https://tokachi-obihiro.doyu.jp/event/event10969/
LOCATION:北海道帯広市西７条南６丁目２\, Japan
CATEGORIES:行事予定告知
ATTACH;FMTTYPE=image/jpeg:https://tokachi-obihiro.doyu.jp/wp/wp-content/uploads/2017/12/thum_logo1.jpg
END:VEVENT
END:VCALENDAR