BEGIN:VCALENDAR
VERSION:2.0
PRODID:-//北海道中小企業家同友会とかち支部 - ECPv4.6.8//NONSGML v1.0//EN
CALSCALE:GREGORIAN
METHOD:PUBLISH
X-WR-CALNAME:北海道中小企業家同友会とかち支部
X-ORIGINAL-URL:https://tokachi-obihiro.doyu.jp
X-WR-CALDESC:Events for 北海道中小企業家同友会とかち支部
BEGIN:VEVENT
DTSTART;TZID=Asia/Tokyo:20201008T180000
DTEND;TZID=Asia/Tokyo:20201008T200000
DTSTAMP:20260424T103419
CREATED:20200925T083303Z
LAST-MODIFIED:20200925T083303Z
UID:10938-1602180000-1602187200@tokachi-obihiro.doyu.jp
SUMMARY:第６回十勝地サイダー研究会
DESCRIPTION:日 時：１０月８日（木）１８：００～２０：００ \n会 場：同友会事務所(帯広市東2条南5丁目1)またはZOOMでの参加 \nテーマ：とかちフェアin札幌での販売、販路拡大等について \nPDFはこちら \n第６回十勝地サイダー研究会
URL:https://tokachi-obihiro.doyu.jp/event/event10938/
LOCATION:北海道帯広市東2条南5丁目1-1\, Japan
CATEGORIES:行事予定告知
ATTACH;FMTTYPE=image/jpeg:https://tokachi-obihiro.doyu.jp/wp/wp-content/uploads/2017/12/thum_logo1.jpg
END:VEVENT
END:VCALENDAR